BEGIN:VCALENDAR
VERSION:2.0
PRODID:-//ChamberMaster//Event Calendar 2.0//EN
METHOD:PUBLISH
X-PUBLISHED-TTL:P3D
REFRESH-INTERVAL:P3D
CALSCALE:GREGORIAN
BEGIN:VEVENT
DTSTART:20161110T124500Z
DTEND:20161110T143000Z
X-MICROSOFT-CDO-ALLDAYEVENT:FALSE
SUMMARY:Government Affairs Committee - Dissecting the Election Results
DESCRIPTION:WHAT JUST HAPPENED?  Dissecting the Results of the Election\n\n \n\nThe election is over and regardless of the outcome\, change is coming.  What will the results of the November 8th election mean to you and your business?\n\n\n\nLet's talk about numbers\, effects of the new composition of the New Hampshire and United States Senate and Congress\, and where will we go from here.\n\n\n\nSteve Marchand will walk us through the results and facilitate an interactive discussion so we can all digest the impacts of the election results.
X-ALT-DESC;FMTTYPE=text/html:<strong><span style="font-size:14px\;">WHAT JUST HAPPENED? &nbsp\;Dissecting the Results of the Election</span></strong><br />\n&nbsp\;<br />\nThe election is over and regardless of the outcome\, change is coming. &nbsp\;What will the results of the November 8th election mean to you and your business?<br />\n<br />\nLet&#39\;s talk about numbers\, effects of the new composition of the New Hampshire and United States Senate and Congress\, and where will we go from here.<br />\n<br />\nSteve Marchand will walk us through the results and facilitate an interactive discussion so we can all digest the impacts of the election results.<br />\n&nbsp\;
LOCATION:Seacoast Media Group Conference Room 111 New Hampshire Ave Portsmouth NH
UID:e.1659.28008
SEQUENCE:3
DTSTAMP:20260421T213127Z
URL:https://business.portsmouthchamber.org/events/details/government-affairs-committee-dissecting-the-election-results-28008
END:VEVENT

END:VCALENDAR
