BEGIN:VCALENDAR
VERSION:2.0
PRODID:-//ChamberMaster//Event Calendar 2.0//EN
METHOD:PUBLISH
X-PUBLISHED-TTL:P3D
REFRESH-INTERVAL:P3D
CALSCALE:GREGORIAN
BEGIN:VEVENT
DTSTART:20140905T120000Z
DTEND:20140905T150000Z
X-MICROSOFT-CDO-ALLDAYEVENT:FALSE
SUMMARY:Government Affairs Committee will host State Sen. Nancy Stiles and challenger Steve Kenda
DESCRIPTION:The Greater Portsmouth Chamber of Commerce Government Affairs Committee will host state Sen. Nancy Stiles of Hampton and challenger Steve Kenda of North Hampton\, the two Republican primary candidates for Senate District 24\, on Friday\, Sept. 5.
X-ALT-DESC;FMTTYPE=text/html:The Greater Portsmouth Chamber of Commerce Government Affairs Committee will host state Sen. Nancy Stiles of Hampton and challenger Steve Kenda of North Hampton\, the two Republican primary candidates for Senate District 24\, on Friday\, Sept. 5.
LOCATION:The meeting will start at 8 a.m. sharp and each candidate will have 30 minutes for some opening comments and a Q&A with Chamber members. The Government Affairs Committee meets at Seacoast Media Group\, 111 New Hampshire Ave.\, Portsmouth (Pease Tradeport).
UID:e.1659.2952
SEQUENCE:3
DTSTAMP:20260419T162136Z
URL:https://business.portsmouthchamber.org/events/details/government-affairs-committee-will-host-state-sen-nancy-stiles-and-challenger-steve-kenda-09-05-2014-2952
END:VEVENT

END:VCALENDAR
