BEGIN:VCALENDAR
VERSION:2.0
PRODID:-//ChamberMaster//Event Calendar 2.0//EN
METHOD:PUBLISH
X-PUBLISHED-TTL:P3D
REFRESH-INTERVAL:P3D
CALSCALE:GREGORIAN
BEGIN:VEVENT
DTSTART:20161014T120000Z
DTEND:20161014T133000Z
X-MICROSOFT-CDO-ALLDAYEVENT:FALSE
SUMMARY:Governmental Affairs Committee: Federal Overtime Laws: What you need to know!
DESCRIPTION:On May 18\, 2016\, President Obama and Department of Labor Secretary Perez announced the publication of the Department of Labor's final rule updating the overtime regulations\, which will automatically extend overtime pay protections to over 4 million workers within the first year of implementation.\n\n\n\nBusiness owners need to be prepared for these changes which will take effect on December 1\, 2016.  At this presentation you will hear from Department of Labor experts on these changes with a focus on the salaried exemptions.\n\n\n\nThe session is limited to the first 100 people that register.\n\n\n\nAbout the Presenter:\n\nSteven McKinney is the Community Outreach and Resource Planning Specialist for the Northern New England District Office of the United States Department of Labor\, Wage and Hour Division.  Steven started working for the Department of Labor in 2010 as a Wage and Hour Investigator.  Over the next 6 years as an Investigator\, Steven obtained direct experience enforcing the Fair Labor Standards Act\, the Family Medical Leave Act\, the Service Contract Act\, the Davis Bacon and Related Acts\, the Migrant and Seasonal Workers Protection Act\, H-2A\, H-2B\, and OSHA (Field Sanitation and Temporary Labor Camps).  Prior to becoming an investigator\, Steven worked as an attorney for the Law Offices of Ferris & Ferris in Chesterfield\, Virginia.
X-ALT-DESC;FMTTYPE=text/html:On May 18\, 2016\, President Obama and Department of Labor Secretary Perez announced the publication of the Department of Labor&rsquo\;s final rule updating the overtime regulations\, which will automatically extend overtime pay protections to over 4 million workers within the first year of implementation.<br />\n<br />\nBusiness owners need to be prepared for these changes which will take effect on December 1\, 2016. &nbsp\;At this presentation you will hear from Department of Labor experts on these changes with a focus on the salaried exemptions.<br />\n<br />\nThe session is limited to the first 100 people that register.<br />\n<br />\n<strong>About the Presenter:</strong><br />\nSteven McKinney is the Community Outreach and Resource Planning Specialist for the Northern New England District Office of the United States Department of Labor\, Wage and Hour Division. &nbsp\;Steven started working for the Department of Labor in 2010 as a Wage and Hour Investigator. &nbsp\;Over the next 6 years as an Investigator\, Steven obtained direct experience enforcing the Fair Labor Standards Act\, the Family Medical Leave Act\, the Service Contract Act\, the Davis Bacon and Related Acts\, the Migrant and Seasonal Workers Protection Act\, H-2A\, H-2B\, and OSHA (Field Sanitation and Temporary Labor Camps). &nbsp\;Prior to becoming an investigator\, Steven worked as an attorney for the Law Offices of Ferris &amp\; Ferris in Chesterfield\, Virginia.
LOCATION:Great Bay Community College (Main Campus) 320 Corporate Drive Portsmouth\, NH 03801
UID:e.1659.24493
SEQUENCE:3
DTSTAMP:20260421T225626Z
URL:https://business.portsmouthchamber.org/events/details/governmental-affairs-committee-federal-overtime-laws-what-you-need-to-know-24493
END:VEVENT

END:VCALENDAR
