BEGIN:VCALENDAR
VERSION:2.0
PRODID:-//ChamberMaster//Event Calendar 2.0//EN
METHOD:PUBLISH
X-PUBLISHED-TTL:P3D
REFRESH-INTERVAL:P3D
CALSCALE:GREGORIAN
BEGIN:VEVENT
DTSTART:20160331T210000Z
DTEND:20160331T230000Z
X-MICROSOFT-CDO-ALLDAYEVENT:FALSE
SUMMARY:Grand Opening of Arete Chiropractic
DESCRIPTION:Join Dr's Mychal Beebe and Tyler Evans as they celebrate the opening of Arete Chiropractic at Orchard Park.  Mychal and Tyler are board certified specialist in the upper neck and practiced for 5 years in Seattle WA.  They wanted to bring the this specialty to the Seacoast area.  Arete Chiropractic uses 3-D imaging of the upper neck to gently and specifically help recovery from headaches\, head and neck trauma and neck pain.  Light refreshments provided\, no RSVP necessary.  Please join us to celebrate a new business more info is here https://www.facebook.com/aretechiro/
X-ALT-DESC;FMTTYPE=text/html:Join Dr&#39\;s Mychal Beebe and Tyler Evans as they celebrate the opening of Arete Chiropractic at Orchard Park.&nbsp\; Mychal and Tyler are board certified specialist in the upper neck and practiced for 5 years in Seattle WA.&nbsp\; They wanted to bring the this specialty to the Seacoast area.&nbsp\; Arete Chiropractic uses 3-D imaging of the upper neck to gently and specifically help recovery from headaches\, head and neck trauma and neck pain.&nbsp\; Light refreshments provided\, no RSVP necessary.&nbsp\; Please join us to celebrate a new business more info is here <a href="https://www.facebook.com/aretechiro/">https://www.facebook.com/aretechiro/</a>
LOCATION:875 Greenland Rd Suite B-12 Portsmouth NH 03801
UID:e.1659.16735
SEQUENCE:3
DTSTAMP:20260420T150032Z
URL:https://business.portsmouthchamber.org/events/details/grand-opening-of-arete-chiropractic-03-31-2016-16735
END:VEVENT

END:VCALENDAR
