BEGIN:VCALENDAR
VERSION:2.0
PRODID:-//ChamberMaster//Event Calendar 2.0//EN
METHOD:PUBLISH
X-PUBLISHED-TTL:P3D
REFRESH-INTERVAL:P3D
CALSCALE:GREGORIAN
BEGIN:VEVENT
DTSTART:20140918T210000Z
DTEND:20140919T000000Z
X-MICROSOFT-CDO-ALLDAYEVENT:FALSE
SUMMARY:Grand Opening Soiree with Oomph Salon and Barre & Soul Portsmouth
DESCRIPTION:Join Oomph Salon for a night of giveaways\, live music\, food and conversation with your favorite new salon! They are hosting this fun night with their new friends upstairs\, Barre & Soul Portsmouth! You won't want to miss this event. More details to follow!!
X-ALT-DESC;FMTTYPE=text/html:<span style="font-family:tahoma\;"><span style="color: rgb(20\, 24\, 35)\; font-size: 14px\; line-height: 17.920000076293945px\;">Join Oomph Salon for a night of giveaways\, live music\, food and conversation with your favorite new salon! They are hosting this fun night with their new friends upstairs\,&nbsp\;</span></span><span style="font-size:14px\;">Barre &amp\; Soul Portsmouth</span><span style="font-family:tahoma\;"><span style="color: rgb(20\, 24\, 35)\; font-size: 14px\; line-height: 17.920000076293945px\;">! You won&#39\;t want to miss this event. More details to follow!!</span></span>
LOCATION:165 Court Street in Portsmouth
UID:e.1659.2973
SEQUENCE:3
DTSTAMP:20260419T162756Z
URL:https://business.portsmouthchamber.org/events/details/grand-opening-soiree-with-oomph-salon-and-barre-soul-portsmouth-09-18-2014-2973
END:VEVENT

END:VCALENDAR
