BEGIN:VCALENDAR
VERSION:2.0
PRODID:-//ChamberMaster//Event Calendar 2.0//EN
METHOD:PUBLISH
X-PUBLISHED-TTL:P3D
REFRESH-INTERVAL:P3D
CALSCALE:GREGORIAN
BEGIN:VEVENT
DTSTART:20170715T220000Z
DTEND:20170716T010000Z
X-MICROSOFT-CDO-ALLDAYEVENT:FALSE
SUMMARY:Granite Planet on the Three Chimneys Inn Terrace
DESCRIPTION:Granite Planet on the Terrace July 15th\, 6-9pm ~ Upbeat\, danceable rock and pop\, ranging from the 60s to today!\n\n\n\nGranite Planet\, in some form or another\, has been playing music together here on the NH seacoast for 14 years. Our music is mostly upbeat\, danceable rock and pop\, ranging from the 60s to today. We pride ourselves in having something for everyone\, both young and old. From Linda Ronstadt to Sex Pistols to Darius Rucker to B52s to The Stranglers to Black Keys\, we keep our set list quite diverse. We also like playing unique versions of familiar songs. For example\, everyone knows Ring of Fire by Johnny Cash\, but ours stays closer to the Social Distortion version.
X-ALT-DESC;FMTTYPE=text/html:<span style="background-color:rgb(245\, 245\, 245)\; color:rgb(56\, 64\, 68)\; font-family:noto sans\,arial\,sans-serif\; font-size:16px">Granite Planet on the Terrace July 15th\, 6-9pm ~ Upbeat\, danceable rock and pop\, ranging from the 60s to today!</span><br />\n<br />\n<span style="background-color:rgb(250\, 250\, 250)\; color:rgb(90\, 90\, 90)\; font-family:helvetica neue\,helvetica\,arial\,sans-serif\; font-size:14px">Granite Planet\, in some form or another\, has been playing music together here on the NH seacoast for 14 years. Our music is mostly upbeat\, danceable rock and pop\, ranging from the 60s to today. We pride ourselves in having something for everyone\, both young and old. From Linda Ronstadt to Sex Pistols to Darius Rucker to B52s to The Stranglers to Black Keys\, we keep our set list quite diverse. We also like playing unique versions of familiar songs. For example\, everyone knows Ring of Fire by Johnny Cash\, but ours stays closer to the Social Distortion version.</span>
LOCATION:Three Chimenys Inn 17 Newmarket RD Durham NH
UID:e.1659.31920
SEQUENCE:3
DTSTAMP:20260421T102255Z
URL:https://business.portsmouthchamber.org/events/details/granite-planet-on-the-three-chimneys-terrace-31920
END:VEVENT

END:VCALENDAR
