BEGIN:VCALENDAR
VERSION:2.0
PRODID:-//ChamberMaster//Event Calendar 2.0//EN
METHOD:PUBLISH
X-PUBLISHED-TTL:P3D
REFRESH-INTERVAL:P3D
CALSCALE:GREGORIAN
BEGIN:VEVENT
DTSTART:20170301T000000Z
DTEND:20170301T020000Z
X-MICROSOFT-CDO-ALLDAYEVENT:FALSE
SUMMARY:Granite State Growler Tours host Trivia Night (Portsmouth Beer Week event)
DESCRIPTION:During Portsmouth Beer Week\, we are going to shake Stump Trivia up a bit \n\n\n\nThink of it like a Brewers who Like to Brew and Play Trivia\, Too but replace the Brewers with Awesome Dudes who like to Drive you to Breweries and Play Trivia\, Too. Yes\, the name was too long.\n\n\n\nJoin the gang from Granite State Growler Tours on Tuesday\, February 28 at 7:00 PM.  They'll be bringing their A-Game and prizes so make up a team and head over to try to beat them.   When you win\, we mean IF you win\, there are some pretty sweet prizes to claim!
X-ALT-DESC;FMTTYPE=text/html:During Portsmouth Beer Week\, we are going to shake Stump Trivia up a bit&hellip\;<br />\n<br />\nThink of it like a Brewers who Like to Brew and Play Trivia\, Too&hellip\;but replace the Brewers with Awesome Dudes who like to Drive you to Breweries and Play Trivia\, Too. Yes\, the name was too long.<br />\n<br />\nJoin the gang from Granite State Growler Tours on Tuesday\, February 28 at 7:00 PM. &nbsp\;They&rsquo\;ll be bringing their A-Game and prizes&hellip\;so make up a team and head over to try to beat them. &nbsp\; When you win\, we mean IF you win\, there are some pretty sweet prizes to claim!
LOCATION:WHYM Beer Cafe 3548 Lafayette Rd\, Portsmouth
UID:e.1659.30032
SEQUENCE:3
DTSTAMP:20260421T164303Z
URL:https://business.portsmouthchamber.org/events/details/granite-state-growler-tours-host-trivia-night-portsmouth-beer-week-event-30032
END:VEVENT

END:VCALENDAR
