BEGIN:VCALENDAR
VERSION:2.0
PRODID:-//ChamberMaster//Event Calendar 2.0//EN
METHOD:PUBLISH
X-PUBLISHED-TTL:P3D
REFRESH-INTERVAL:P3D
CALSCALE:GREGORIAN
BEGIN:VEVENT
DTSTART:20260321T180000Z
DTEND:20260321T191500Z
X-MICROSOFT-CDO-ALLDAYEVENT:FALSE
SUMMARY:MUSIC: Granite State New Horizons Music Summit Combined Concert
DESCRIPTION:Portsmouth Music and Arts Center presents the 2026 Granite State New Horizons Music Summit Combined Concert\, featuring adult community concert bands from across NH. New Horizons is an adult music program for people returning to an instrument or learning one for the first time. Each year\, the Summit rotates among four host communities\; this spring\, the combined concert comes to Portsmouth as musicians from the Lakes Region\, Concord\, Monadnock\, and Portsmouth unite as one large concert band for a shared program. The performance will feature a family-friendly mix of traditional concert band repertoire\, including a Sousa march\, a Swahili folk hymn\, and more.
X-ALT-DESC;FMTTYPE=text/html:Portsmouth Music and Arts Center presents the 2026 Granite State New Horizons Music Summit Combined Concert\, featuring adult community concert bands from across NH. New Horizons is an adult music program for people returning to an instrument&mdash\;or learning one for the first time. Each year\, the Summit rotates among four host communities\; this spring\, the combined concert comes to Portsmouth as musicians from the Lakes Region\, Concord\, Monadnock\, and Portsmouth unite as one large concert band for a shared program. The performance will feature a family-friendly mix of traditional concert band repertoire\, including a Sousa march\, a Swahili folk hymn\, and more.
LOCATION:Portsmouth Middle School
UID:e.1659.89239
SEQUENCE:3
DTSTAMP:20260423T070648Z
URL:https://business.portsmouthchamber.org/events/details/granite-state-new-horizons-music-summit-combined-concert-89239
END:VEVENT

END:VCALENDAR
