BEGIN:VCALENDAR
VERSION:2.0
PRODID:-//ChamberMaster//Event Calendar 2.0//EN
METHOD:PUBLISH
X-PUBLISHED-TTL:P3D
REFRESH-INTERVAL:P3D
CALSCALE:GREGORIAN
BEGIN:VEVENT
DTSTART;VALUE=DATE:20141025
DTEND;VALUE=DATE:20141026
TRANSP:TRANSPARENT
X-MICROSOFT-CDO-ALLDAYEVENT:TRUE
SUMMARY:Great Bay 5K
DESCRIPTION:Newington\, Seacoast Road Race Series\, October 25\, 9am.
X-ALT-DESC;FMTTYPE=text/html:Newington\, Seacoast Road Race Series\, October 25\, 9am.
LOCATION:
UID:e.1659.2150
SEQUENCE:3
DTSTAMP:20260419T143944Z
URL:https://business.portsmouthchamber.org/events/details/great-bay-5k-10-25-2014-2150
END:VEVENT

END:VCALENDAR
