BEGIN:VCALENDAR
VERSION:2.0
PRODID:-//ChamberMaster//Event Calendar 2.0//EN
METHOD:PUBLISH
X-PUBLISHED-TTL:P3D
REFRESH-INTERVAL:P3D
CALSCALE:GREGORIAN
BEGIN:VEVENT
DTSTART:20140811T130000Z
DTEND:20140811T190000Z
X-MICROSOFT-CDO-ALLDAYEVENT:FALSE
SUMMARY:Great Bay Community College Student Success Charity Golf Tournament
DESCRIPTION:The 1st Annual Great Bay Community College Student Success Tournament is in need the following: - 2 Title/Presenting  Sponsors - Tee / Green Sponsors - Teams All proceeds benefit students at Great Bay through student leadership development programs\, intercollegiate athletics and student scholarships.
X-ALT-DESC;FMTTYPE=text/html:The 1st Annual Great Bay Community College Student Success Tournament is in need the following: - 2 Title/Presenting &nbsp\;Sponsors - Tee / Green Sponsors - Teams All proceeds benefit students at Great Bay through student leadership development programs\, intercollegiate athletics and student scholarships.
LOCATION:Pease Golf Course - 200 Grafton Drive\, Portsmouth\, NH
UID:e.1659.2101
SEQUENCE:3
DTSTAMP:20260419T175426Z
URL:https://business.portsmouthchamber.org/events/details/great-bay-community-college-student-success-charity-golf-tournament-08-11-2014-2101
END:VEVENT

END:VCALENDAR
