BEGIN:VCALENDAR
VERSION:2.0
PRODID:-//ChamberMaster//Event Calendar 2.0//EN
METHOD:PUBLISH
X-PUBLISHED-TTL:P3D
REFRESH-INTERVAL:P3D
CALSCALE:GREGORIAN
BEGIN:VEVENT
DTSTART:20160313T010000Z
DTEND:20160313T030000Z
X-MICROSOFT-CDO-ALLDAYEVENT:FALSE
SUMMARY:Greek Music & Dancing featuring Carol Coronis with Belly Dancing by Zabel
DESCRIPTION:Join us for Greek Music & Dancing featuring Carol Coronis with Belly Dancing by Zabel\, at Cafe Nostimo\, from 8-10pm\, Saturday March 12th. Reservations recommended.
X-ALT-DESC;FMTTYPE=text/html:Join us for Greek Music &amp\; Dancing featuring Carol Coronis with Belly Dancing by Zabel\, at Cafe Nostimo\, from 8-10pm\, Saturday March 12th. Reservations recommended.&nbsp\;
LOCATION:72 Mirona Road Portsmouth\, NH 03801
UID:e.1659.13354
SEQUENCE:3
DTSTAMP:20260420T145909Z
URL:https://business.portsmouthchamber.org/events/details/greek-music-dancing-featuring-carol-coronis-with-belly-dancing-by-zabel-03-12-2016-13354
END:VEVENT

END:VCALENDAR
