BEGIN:VCALENDAR
VERSION:2.0
PRODID:-//ChamberMaster//Event Calendar 2.0//EN
METHOD:PUBLISH
X-PUBLISHED-TTL:P3D
REFRESH-INTERVAL:P3D
CALSCALE:GREGORIAN
BEGIN:VEVENT
DTSTART:20160327T000000Z
DTEND:20160327T030000Z
X-MICROSOFT-CDO-ALLDAYEVENT:FALSE
SUMMARY:Greek Music & Dancing with Chuck & Ross
DESCRIPTION:Join us for Greek Music & Dancing with Chuck & Ross\, at Cafe Nostimo\, from 8-11pm\, Saturday March 26th. Reservations recommended.
X-ALT-DESC;FMTTYPE=text/html:Join us for Greek Music &amp\; Dancing with Chuck &amp\; Ross\, at Cafe Nostimo\, from 8-11pm\, Saturday March 26th. Reservations recommended.&nbsp\;
LOCATION:72 Mirona Road Portsmouth\, NH 03801
UID:e.1659.13352
SEQUENCE:3
DTSTAMP:20260420T145503Z
URL:https://business.portsmouthchamber.org/events/details/greek-music-dancing-with-chuck-ross-03-26-2016-13352
END:VEVENT

END:VCALENDAR
