BEGIN:VCALENDAR
VERSION:2.0
PRODID:-//ChamberMaster//Event Calendar 2.0//EN
METHOD:PUBLISH
X-PUBLISHED-TTL:P3D
REFRESH-INTERVAL:P3D
CALSCALE:GREGORIAN
BEGIN:VEVENT
DTSTART:20160306T010000Z
DTEND:20160306T040000Z
X-MICROSOFT-CDO-ALLDAYEVENT:FALSE
SUMMARY:Greek Music & Dancing with Enosis
DESCRIPTION:Join us for Greek Music & Dancing with Enosis\, at Cafe Nostimo\, from 8-11pm\, Saturday March 5th. Reservations recommended.
X-ALT-DESC;FMTTYPE=text/html:Join us for Greek Music &amp\; Dancing with Enosis\, at Cafe Nostimo\, from 8-11pm\, Saturday March 5th. Reservations recommended.&nbsp\;
LOCATION:72 Mirona Road Portsmouth\, NH 03801
UID:e.1659.13350
SEQUENCE:3
DTSTAMP:20260420T145857Z
URL:https://business.portsmouthchamber.org/events/details/greek-music-dancing-with-enosis-03-05-2016-13350
END:VEVENT

END:VCALENDAR
