BEGIN:VCALENDAR
VERSION:2.0
PRODID:-//ChamberMaster//Event Calendar 2.0//EN
METHOD:PUBLISH
X-PUBLISHED-TTL:P3D
REFRESH-INTERVAL:P3D
CALSCALE:GREGORIAN
BEGIN:VEVENT
DTSTART:20260116T233000Z
DTEND:20260117T013000Z
X-MICROSOFT-CDO-ALLDAYEVENT:FALSE
SUMMARY:Grown-up Play Date! Craft and Cuddle: A Winter Warm-up
DESCRIPTION:Winter is a perfect time to snuggle in and learn something new with friends! Adults 18 years and older are welcome to join us at the Children's Museum of New Hampshire for a cozy evening. Learn drawing tips from local artist and illustrator Sean Bixby. Cuddle adoptable animals from Pope Memorial Humane Society. Enjoy tea\, hot cocoa donated by Breakaway Cafe\, and decorate your own cookie donated by Auntie Kim's Cakes of Dover. Learn new craft skills and make treasures to take home. And of course\, explore all those hands-on museum exhibits we know you've been dying to play in! Tickets are $20 when purchased online ahead of time or $25 at the door. Grown-ups ages 18+ only please.
X-ALT-DESC;FMTTYPE=text/html:<span style="background-color:transparent\; color:rgb(0\, 0\, 0)\; font-family:arial\,sans-serif\; font-size:12pt">Winter is a perfect time to snuggle in and learn something new with friends! Adults 18 years and older are welcome to join us at the Children&rsquo\;s Museum of New Hampshire for a cozy evening. Learn drawing tips from local artist and illustrator Sean Bixby. Cuddle adoptable animals from Pope Memorial Humane Society. Enjoy tea\, hot cocoa donated by Breakaway Cafe\, and decorate your own cookie donated by Auntie Kim&rsquo\;s Cakes of Dover. Learn new craft skills and make treasures to take home. And of course\, explore all those hands-on museum exhibits we know you&rsquo\;ve been dying to play in! Tickets are $20 when purchased online ahead of time or $25 at the door. Grown-ups ages 18+ only please.&nbsp\; </span>
LOCATION:The Children's Museum of New Hampshire 6 Washington Street Dover\, NH 03820
UID:e.1659.88447
SEQUENCE:3
DTSTAMP:20260423T133519Z
URL:https://business.portsmouthchamber.org/events/details/grown-up-play-date-craft-and-cuddle-a-winter-warm-up-88447
END:VEVENT

END:VCALENDAR
