BEGIN:VCALENDAR
VERSION:2.0
PRODID:-//ChamberMaster//Event Calendar 2.0//EN
METHOD:PUBLISH
X-PUBLISHED-TTL:P3D
REFRESH-INTERVAL:P3D
CALSCALE:GREGORIAN
BEGIN:VEVENT
DTSTART:20160308T220000Z
DTEND:20160309T030000Z
X-MICROSOFT-CDO-ALLDAYEVENT:FALSE
SUMMARY:Guest Chef Series at Row 34
DESCRIPTION:Every Tuesday beginning January 5th\, join us at Row 34 for our guest chef series. Chefs will be both visiting and local featuring their take on New England cuisine.\n\n\n\nVisit Row34's Facebook page for updates on who each guest chef will be!\n\nwww.facebook.com/Row34NH
X-ALT-DESC;FMTTYPE=text/html:<span style="color:rgb(20\, 24\, 35)\; font-family:helvetica\,arial\,sans-serif\; font-size:14px">Every Tuesday beginning January 5th\, join us at Row 34 for our guest chef series. Chefs will be both visiting and local featuring their take on New England cuisine.<br />\n<br />\nVisit Row34&#39\;s Facebook page for updates on who each guest chef will be!</span><br />\nwww.facebook.com/Row34NH&nbsp\;
LOCATION:Row34 5 Portwalk Place
UID:e.1659.14873
SEQUENCE:3
DTSTAMP:20260420T145324Z
URL:https://business.portsmouthchamber.org/events/details/guest-chef-series-at-row-34-03-08-2016-14873
END:VEVENT

END:VCALENDAR
