BEGIN:VCALENDAR
VERSION:2.0
PRODID:-//ChamberMaster//Event Calendar 2.0//EN
METHOD:PUBLISH
X-PUBLISHED-TTL:P3D
REFRESH-INTERVAL:P3D
CALSCALE:GREGORIAN
BEGIN:VEVENT
DTSTART:20260315T190000Z
DTEND:20260315T200000Z
X-MICROSOFT-CDO-ALLDAYEVENT:FALSE
SUMMARY:Guitar Sundays: Kevin Loh
DESCRIPTION:Kevin Loh performs a free concert of classical guitar music as part of the Guitar Sundays series at PMAC. Kevin Loh is a distinguished guitarist who won 2nd place at the 2023 Guitar Foundation of America International Concert Artist Competition\, an extremely prestigious international classical guitar competition.
X-ALT-DESC;FMTTYPE=text/html:Kevin Loh performs a free concert of classical guitar music as part of the Guitar Sundays series at PMAC. Kevin Loh is a distinguished guitarist who won 2nd place at the 2023 Guitar Foundation of America International Concert Artist Competition\, an extremely prestigious international classical guitar competition.
LOCATION:Portsmouth Music and Arts Center (PMAC)\, 973 Islington St\, Portsmouth\, NH
UID:e.1659.89296
SEQUENCE:3
DTSTAMP:20260423T053130Z
URL:https://business.portsmouthchamber.org/events/details/guitar-sundays-kevin-loh-89296
END:VEVENT

END:VCALENDAR
