BEGIN:VCALENDAR
VERSION:2.0
PRODID:-//ChamberMaster//Event Calendar 2.0//EN
METHOD:PUBLISH
X-PUBLISHED-TTL:P3D
REFRESH-INTERVAL:P3D
CALSCALE:GREGORIAN
BEGIN:VEVENT
DTSTART:20140802T233000Z
DTEND:20140803T010000Z
X-MICROSOFT-CDO-ALLDAYEVENT:FALSE
SUMMARY:Halcyon Music Festival: All-Mendelssohn Program
DESCRIPTION:Halcyon Music Festival closes its season with an evening of works by Mendelssohn\, featuring the composer's crowning masterpiece\, the Octet in E-flat major.
X-ALT-DESC;FMTTYPE=text/html:Halcyon Music Festival closes its season with an evening of works by Mendelssohn\, featuring the composer&#39\;s crowning masterpiece\, the Octet in E-flat major.&nbsp\;
LOCATION:St. John's Episcopal Church 101 Chapel Street\, Portsmouth\, NH
UID:e.1659.2192
SEQUENCE:3
DTSTAMP:20260419T175803Z
URL:https://business.portsmouthchamber.org/events/details/halcyon-music-festival-all-mendelssohn-program-08-02-2014-2192
END:VEVENT

END:VCALENDAR
