BEGIN:VCALENDAR
VERSION:2.0
PRODID:-//ChamberMaster//Event Calendar 2.0//EN
METHOD:PUBLISH
X-PUBLISHED-TTL:P3D
REFRESH-INTERVAL:P3D
CALSCALE:GREGORIAN
BEGIN:VEVENT
DTSTART:20140801T233000Z
DTEND:20140802T010000Z
X-MICROSOFT-CDO-ALLDAYEVENT:FALSE
SUMMARY:Halcyon Music Festival: Dueling Instruments
DESCRIPTION:Everyone's a winner with tonight's concert\, featuring works by Brahms\, Bart k\, Bacewicz\, Bach-Varga\, and Spohr.
X-ALT-DESC;FMTTYPE=text/html:Everyone&#39\;s a winner with tonight&#39\;s concert\, featuring works by Brahms\, Bart&oacute\;k\, Bacewicz\, Bach-Varga\, and Spohr.&nbsp\;
LOCATION:
UID:e.1659.2191
SEQUENCE:3
DTSTAMP:20260419T175211Z
URL:https://business.portsmouthchamber.org/events/details/halcyon-music-festival-dueling-instruments-08-01-2014-2191
END:VEVENT

END:VCALENDAR
