BEGIN:VCALENDAR
VERSION:2.0
PRODID:-//ChamberMaster//Event Calendar 2.0//EN
METHOD:PUBLISH
X-PUBLISHED-TTL:P3D
REFRESH-INTERVAL:P3D
CALSCALE:GREGORIAN
BEGIN:VEVENT
DTSTART:20140731T233000Z
DTEND:20140801T010000Z
X-MICROSOFT-CDO-ALLDAYEVENT:FALSE
SUMMARY:Halcyon Music Festival: Halcyon Night
DESCRIPTION:Halcyon Music Festival kicks off its second week of concerts\, with works by Shostakovich\, Mozart\, Faur \, and Brahms.
X-ALT-DESC;FMTTYPE=text/html:Halcyon Music Festival kicks off its second week of concerts\, with works by Shostakovich\, Mozart\, Faur&eacute\;\, and Brahms.&nbsp\;
LOCATION:St. John's Episcopal Church 101 Chapel Street\, Portsmouth\, NH
UID:e.1659.2190
SEQUENCE:3
DTSTAMP:20260419T190551Z
URL:https://business.portsmouthchamber.org/events/details/halcyon-music-festival-halcyon-night-07-31-2014-2190
END:VEVENT

END:VCALENDAR
