BEGIN:VCALENDAR
VERSION:2.0
PRODID:-//ChamberMaster//Event Calendar 2.0//EN
METHOD:PUBLISH
X-PUBLISHED-TTL:P3D
REFRESH-INTERVAL:P3D
CALSCALE:GREGORIAN
BEGIN:VEVENT
DTSTART:20140724T233000Z
DTEND:20140725T010000Z
X-MICROSOFT-CDO-ALLDAYEVENT:FALSE
SUMMARY:Halcyon Music Festival: Inaugural Concert
DESCRIPTION:Join Halcyon Music Festival for its inaugural concert\, featuring works by Dvorak\, Faur \, and Schubert.
X-ALT-DESC;FMTTYPE=text/html:Join Halcyon Music Festival for its inaugural concert\, featuring works by Dvorak\, Faur&eacute\;\, and Schubert.&nbsp\;
LOCATION:St. John's Episcopal Church 101 Chapel Street\, Portsmouth\, NH
UID:e.1659.2187
SEQUENCE:3
DTSTAMP:20260419T190811Z
URL:https://business.portsmouthchamber.org/events/details/halcyon-music-festival-inaugural-concert-07-24-2014-2187
END:VEVENT

END:VCALENDAR
