BEGIN:VCALENDAR
VERSION:2.0
PRODID:-//ChamberMaster//Event Calendar 2.0//EN
METHOD:PUBLISH
X-PUBLISHED-TTL:P3D
REFRESH-INTERVAL:P3D
CALSCALE:GREGORIAN
BEGIN:VEVENT
DTSTART:20170630T233000Z
DTEND:20170701T013000Z
X-MICROSOFT-CDO-ALLDAYEVENT:FALSE
SUMMARY:Halcyon Music Festival Presents: From Russia with Love
DESCRIPTION:Alexander Borodin   |  String Quartet No. 2 in D Major\n\nMark Ptashne\, Gabriela Diaz\, violins ~ Kazuko Matsusaka\, viola ~ Loewi Lin\, cello\n\n\n\nDmitri Shostakovich   |  String Quartet No. 8 in C minor\, Opus 110\n\nBen Sayevich\, Anna Marie Williams\, violins ~ Tim Deighton\, viola ~ Mikhail Veselov\, cello\n\n\n\nMikhail Glinka   |  Grand Sextet for piano\, string quartet\, and bass in Eb Major\n\nEmma Frucht\, Monica Pegis\, violins ~ Tatjana Mead Chamis\, viola ~ Eugena Chang\, cello ~ Erik Higgins\, double bass ~ Lolita Lisovskaya-Sayevich\, piano
X-ALT-DESC;FMTTYPE=text/html:<strong>Alexander Borodin &nbsp\; | &nbsp\;String Quartet No. 2 in D Major</strong><br />\nMark Ptashne\, Gabriela Diaz\, violins ~ Kazuko Matsusaka\, viola ~ Loewi Lin\, cello<br />\n<br />\n<strong>Dmitri Shostakovich &nbsp\; | &nbsp\;String Quartet No. 8 in C minor\, Opus 110</strong><br />\nBen Sayevich\, Anna Marie Williams\, violins ~ Tim Deighton\, viola ~ Mikhail Veselov\, cello<br />\n<br />\n<strong>Mikhail Glinka &nbsp\; | &nbsp\;Grand Sextet for piano\, string quartet\, and bass in Eb Major</strong><br />\nEmma Frucht\, Monica Pegis\, violins ~ Tatjana Mead Chamis\, viola ~ Eugena Chang\, cello ~ Erik Higgins\, double bass ~ Lolita Lisovskaya-Sayevich\, piano
LOCATION:St. John's Episcopal Church Portsmouth . NH
UID:e.1659.31631
SEQUENCE:3
DTSTAMP:20260419T115559Z
URL:https://business.portsmouthchamber.org/events/details/halcyon-music-festival-presents-from-russia-with-love-31631
END:VEVENT

END:VCALENDAR
