BEGIN:VCALENDAR
VERSION:2.0
PRODID:-//ChamberMaster//Event Calendar 2.0//EN
METHOD:PUBLISH
X-PUBLISHED-TTL:P3D
REFRESH-INTERVAL:P3D
CALSCALE:GREGORIAN
BEGIN:VEVENT
DTSTART:20170628T233000Z
DTEND:20170629T010000Z
X-MICROSOFT-CDO-ALLDAYEVENT:FALSE
SUMMARY:Halcyon Music Festival Presents: In the Name of Art
DESCRIPTION:W. A. Mozart   |  Piano Quartet No. 2 in Eb Major\, K. 493\n\nMark Ptashne\, violin ~ Tim Deighton\, viola ~ David Hardy\, cello ~ Lolita Lisovskaya-Sayevich\, piano\n\n\n\nJohannes Brahms   |  Piano Trio No. 3 in C minor\, Opus 101\n\nBen Sayevich\, violin ~ Loewi Lin\, cello ~ Heng-Jin Park\, piano\n\n\n\nAnton n Dvo  k   |  String Quintet No. 2 in G Major\, Opus 77\n\nGabriela Diaz\, Monica Pegis\, violins ~ Tatjana Mead Chamis\, viola ~ Eugena Chang\, cello ~ Erik Higgins\, double bass
X-ALT-DESC;FMTTYPE=text/html:<strong>W. A. Mozart &nbsp\; | &nbsp\;Piano Quartet No. 2 in Eb Major\, K. 493</strong><br />\nMark Ptashne\, violin ~ Tim Deighton\, viola ~ David Hardy\, cello ~ Lolita Lisovskaya-Sayevich\, piano<br />\n<br />\n<strong>Johannes Brahms &nbsp\; | &nbsp\;Piano Trio No. 3 in C minor\, Opus 101</strong><br />\nBen Sayevich\, violin ~ Loewi Lin\, cello ~ Heng-Jin Park\, piano<br />\n<br />\n<strong>Anton&iacute\;n Dvo&#345\;&aacute\;k &nbsp\; | &nbsp\;String Quintet No. 2 in G Major\, Opus 77</strong><br />\nGabriela Diaz\, Monica Pegis\, violins ~ Tatjana Mead Chamis\, viola ~ Eugena Chang\, cello ~ Erik Higgins\, double bass
LOCATION:Bratton Recital Hall (inside Paul Creative Arts Center) University of New Hampshire Durham . NH
UID:e.1659.31629
SEQUENCE:3
DTSTAMP:20260419T115830Z
URL:https://business.portsmouthchamber.org/events/details/halcyon-music-festival-presents-in-the-name-of-art-31629
END:VEVENT

END:VCALENDAR
