BEGIN:VCALENDAR
VERSION:2.0
PRODID:-//ChamberMaster//Event Calendar 2.0//EN
METHOD:PUBLISH
X-PUBLISHED-TTL:P3D
REFRESH-INTERVAL:P3D
CALSCALE:GREGORIAN
BEGIN:VEVENT
DTSTART:20170623T233000Z
DTEND:20170624T013000Z
X-MICROSOFT-CDO-ALLDAYEVENT:FALSE
SUMMARY:Halcyon Music Festival Presents: Mature Masterworks
DESCRIPTION:W. A. Mozart   |  Clarinet Quintet in A Major\, 'Stadler'\n\nPaul Cigan\, clarinet ~ Anna Marie Williams\, Emma Frucht\, violins ~ Tim Deighton\, viola ~ Mikhail Veselov\, cello\n\n\n\n C sar Franck   |  Sonata for Violin and Piano in A Major\n\nBen Sayevich\, violin ~ Lolita Lisovskaya-Sayevich\, piano\n\n\n\nFelix Mendelssohn   |  String Quintet No. 2 in Bb Major\, Opus 87\n\nMonica Pegis\, Ayano Ninomiya\, violins ~ Kazuko Matsusaka\, Robert Meyer\, violas ~ Eugena Chang\, cello
X-ALT-DESC;FMTTYPE=text/html:<strong>W. A. Mozart </strong>&nbsp\; <strong>| &nbsp\;Clarinet Quintet in A Major\, &lsquo\;Stadler&rsquo\;</strong><br />\nPaul Cigan\, clarinet ~ Anna Marie Williams\, Emma Frucht\, violins ~ Tim Deighton\, viola ~ Mikhail Veselov\, cello<br />\n<br />\n<strong>&nbsp\;C&eacute\;sar Franck &nbsp\; | &nbsp\;Sonata for Violin and Piano in A Major</strong><br />\nBen Sayevich\, violin ~ Lolita Lisovskaya-Sayevich\, piano<br />\n<br />\n<strong>Felix Mendelssohn &nbsp\; | &nbsp\;String Quintet No. 2 in Bb Major\, Opus 87</strong><br />\nMonica Pegis\, Ayano Ninomiya\, violins ~ Kazuko Matsusaka\, Robert Meyer\, violas ~ Eugena Chang\, cello
LOCATION:St. John's Episcopal Church Portsmouth . NH
UID:e.1659.31626
SEQUENCE:3
DTSTAMP:20260419T120704Z
URL:https://business.portsmouthchamber.org/events/details/halcyon-music-festival-presents-mature-masterworks-31626
END:VEVENT

END:VCALENDAR
