BEGIN:VCALENDAR
VERSION:2.0
PRODID:-//ChamberMaster//Event Calendar 2.0//EN
METHOD:PUBLISH
X-PUBLISHED-TTL:P3D
REFRESH-INTERVAL:P3D
CALSCALE:GREGORIAN
BEGIN:VEVENT
DTSTART:20170629T233000Z
DTEND:20170630T013000Z
X-MICROSOFT-CDO-ALLDAYEVENT:FALSE
SUMMARY:Halcyon Music Festival Presents: Water Music
DESCRIPTION:Maurice Ravel   |  Jeux d'eau\n\nHeng-Jin Park\, piano\n\n\n\nClaude Debussy   |  La mer (arranged by Sally Beamish)\n\nIrina Muresanu\, violin ~ Mikhail Veselov\, cello ~ Heng-Jin Park\, piano\n\n\n\nFranz Schubert   |  Piano Quintet in A Major\, 'Trout'\, D. 667\n\nAnna Marie Williams\, violin ~ Kazuko Matsusaka\, viola ~ David Hardy\, cello ~ Erik Higgins\, double bass ~ Lolita Lisovskaya-Sayevich\, piano
X-ALT-DESC;FMTTYPE=text/html:<strong>Maurice Ravel &nbsp\; | &nbsp\;Jeux d&rsquo\;eau</strong><br />\nHeng-Jin Park\, piano<br />\n<br />\n<strong>Claude Debussy &nbsp\; | &nbsp\;La mer (arranged by Sally Beamish)</strong><br />\nIrina Muresanu\, violin ~ Mikhail Veselov\, cello ~ Heng-Jin Park\, piano<br />\n<br />\n<strong>Franz Schubert &nbsp\; | &nbsp\;Piano Quintet in A Major\, &lsquo\;Trout&rsquo\;\, D. 667</strong><br />\nAnna Marie Williams\, violin ~ Kazuko Matsusaka\, viola ~ David Hardy\, cello ~ Erik Higgins\, double bass ~ Lolita Lisovskaya-Sayevich\, piano
LOCATION:St. John's Episcopal Church Portsmouth . NH
UID:e.1659.31630
SEQUENCE:3
DTSTAMP:20260419T115601Z
URL:https://business.portsmouthchamber.org/events/details/halcyon-music-festival-presents-water-music-31630
END:VEVENT

END:VCALENDAR
