BEGIN:VCALENDAR
VERSION:2.0
PRODID:-//ChamberMaster//Event Calendar 2.0//EN
METHOD:PUBLISH
X-PUBLISHED-TTL:P3D
REFRESH-INTERVAL:P3D
CALSCALE:GREGORIAN
BEGIN:VEVENT
DTSTART:20140725T233000Z
DTEND:20140726T010000Z
X-MICROSOFT-CDO-ALLDAYEVENT:FALSE
SUMMARY:Halcyon Music Festival: The Art of Ensemble
DESCRIPTION:Explore ensemble variety on the chamber music spectrum\, from the intimacy of Debussy's sonata for cello and piano\, to the robust piano quintet of Brahms.  This concert is presented in collaboration with Music for Food\, a musician-led initiative for local hunger relief. A portion of proceeds will benefit the Seacoast Family Food Bank.
X-ALT-DESC;FMTTYPE=text/html:Explore ensemble variety on the chamber music spectrum\, from the intimacy of Debussy&#39\;s sonata for cello and piano\, to the robust piano quintet of Brahms.&nbsp\; This concert is presented in collaboration with Music for Food\, a musician-led initiative for local hunger relief. A portion of proceeds will benefit the Seacoast Family Food Bank.&nbsp\;
LOCATION:St. John's Episcopal Church 101 Chapel Street\, Portsmouth\, NH
UID:e.1659.2188
SEQUENCE:3
DTSTAMP:20260419T190735Z
URL:https://business.portsmouthchamber.org/events/details/halcyon-music-festival-the-art-of-ensemble-07-25-2014-2188
END:VEVENT

END:VCALENDAR
