BEGIN:VCALENDAR
VERSION:2.0
PRODID:-//ChamberMaster//Event Calendar 2.0//EN
METHOD:PUBLISH
X-PUBLISHED-TTL:P3D
REFRESH-INTERVAL:P3D
CALSCALE:GREGORIAN
BEGIN:VEVENT
DTSTART:20140726T233000Z
DTEND:20140727T010000Z
X-MICROSOFT-CDO-ALLDAYEVENT:FALSE
SUMMARY:Halcyon Music Festival: Transfigured Night
DESCRIPTION:Join Halcyon Music Festival for an evening of works by Handel- Halvorsen\, Moszkowski\, Shostakovich\, and Schoenberg.
X-ALT-DESC;FMTTYPE=text/html:Join Halcyon Music Festival for an evening of works by&nbsp\;Handel- Halvorsen\,&nbsp\;Moszkowski\,&nbsp\;Shostakovich\, and Schoenberg.&nbsp\;
LOCATION:St. John's Episcopal Church 101 Chapel Street\, Portsmouth\, NH
UID:e.1659.2189
SEQUENCE:3
DTSTAMP:20260419T190422Z
URL:https://business.portsmouthchamber.org/events/details/halcyon-music-festival-transfigured-night-07-26-2014-2189
END:VEVENT

END:VCALENDAR
