BEGIN:VCALENDAR
VERSION:2.0
PRODID:-//ChamberMaster//Event Calendar 2.0//EN
METHOD:PUBLISH
X-PUBLISHED-TTL:P3D
REFRESH-INTERVAL:P3D
CALSCALE:GREGORIAN
BEGIN:VEVENT
DTSTART;VALUE=DATE:20140811
DTEND;VALUE=DATE:20140816
TRANSP:TRANSPARENT
X-MICROSOFT-CDO-ALLDAYEVENT:TRUE
SUMMARY:Hampton Beach Children's Festival
DESCRIPTION:One week from August 11th to 15th when the Hampton Beach Children's Festival returns to delight the young and young at heart again. Magic shows\, puppets\, storytellers\, contests and much more are just a prelude to the main event\, a huge costume parade down Ocean Boulevard\, to the Seashell Stage where everyone gets a prize!
X-ALT-DESC;FMTTYPE=text/html:<span style="color: rgb(0\, 51\, 102)\; font-family: Georgia\, Arial\, Verdana\, Helvetica\, sans-serif\; font-size: 12px\; background-color: rgb(255\, 255\, 255)\;">&nbsp\;One week from August 11th to 15th when the Hampton Beach Children&#39\;s Festival returns to delight the young and young at heart again. Magic shows\, puppets\, storytellers\, contests and much more are just a prelude to the main event\, a huge costume parade down Ocean Boulevard\, to the Seashell Stage where everyone gets a prize!</span>
LOCATION:
UID:e.1659.2133
SEQUENCE:3
DTSTAMP:20260419T175310Z
URL:https://business.portsmouthchamber.org/events/details/hampton-beach-children-s-festival-08-11-2014-2133
END:VEVENT

END:VCALENDAR
