BEGIN:VCALENDAR
VERSION:2.0
PRODID:-//ChamberMaster//Event Calendar 2.0//EN
METHOD:PUBLISH
X-PUBLISHED-TTL:P3D
REFRESH-INTERVAL:P3D
CALSCALE:GREGORIAN
BEGIN:VEVENT
DTSTART;VALUE=DATE:20140905
DTEND;VALUE=DATE:20140906
TRANSP:TRANSPARENT
X-MICROSOFT-CDO-ALLDAYEVENT:TRUE
SUMMARY:Hampton Beach Seafood Festival
DESCRIPTION:Festivities include: Over 50 of the Seacoast top restaurants serving an abundance of mouthwatering seafood delicacies\; 80 Arts & Crafts vendors promoting locally made products\; hundreds of Ocean Boulevard merchants offering end-of-the-season Sidewalk Sales\; a Kiddie Land with the regional most notable Celebrities in Childrens Entertainment\; continuous Culinary Chef Demonstrations produced by Pat Whitley\; and two stages of continuous entertainment with 15 Bands and Orchestras. We also planned two Main Events on Saturday\, the United States Air Force Band of Liberty will perform an inspiring patriotic medley leading up to our spectacular Fireworks display\; and on Sunday spectators will view an amazing Sky Diving extravaganza.
X-ALT-DESC;FMTTYPE=text/html:<span style="font-family: verdana\; font-size: 11px\; line-height: 15px\; background-color: rgb(255\, 255\, 255)\;">Festivities include: Over 50 of the Seacoast top restaurants serving an abundance of mouthwatering seafood delicacies\; 80 Arts &amp\; Crafts vendors promoting locally made products\; hundreds of Ocean Boulevard merchants offering end-of-the-season Sidewalk Sales\; a Kiddie Land with the regional most notable Celebrities in Childrens Entertainment\; continuous Culinary Chef Demonstrations produced by Pat Whitley\; and two stages of continuous entertainment with 15 Bands and Orchestras. We also planned two Main Events on Saturday\, the United States Air Force Band of Liberty will perform an inspiring patriotic medley leading up to our spectacular Fireworks display\; and on Sunday spectators will view an amazing Sky Diving extravaganza.</span>
LOCATION:
UID:e.1659.2136
SEQUENCE:3
DTSTAMP:20260419T161521Z
URL:https://business.portsmouthchamber.org/events/details/hampton-beach-seafood-festival-09-05-2014-2136
END:VEVENT

END:VCALENDAR
