BEGIN:VCALENDAR
VERSION:2.0
PRODID:-//ChamberMaster//Event Calendar 2.0//EN
METHOD:PUBLISH
X-PUBLISHED-TTL:P3D
REFRESH-INTERVAL:P3D
CALSCALE:GREGORIAN
BEGIN:VEVENT
DTSTART;VALUE=DATE:20140906
DTEND;VALUE=DATE:20140907
TRANSP:TRANSPARENT
X-MICROSOFT-CDO-ALLDAYEVENT:TRUE
SUMMARY:Hampton Beach Seafood Festival
DESCRIPTION:Festivities include: Over 50 of the Seacoasts top restaurants serving an abundance of mouthwatering seafood delicacies\; 80 Arts & Crafts vendors promoting locally made products\; hundreds of Ocean Boulevard merchants offering end-of-the-season Sidewalk Sales\; a Kiddie Land with the regional most notable Celebrities in Children Entertainment\; continuous Culinary Chef Demonstrations produced by Pat Whitley\; and two stages of continuous entertainment with 15 Bands and Orchestras. We are also planned two Main Events-- on Saturday\, the United States Air Force Band of Liberty will perform an inspiring patriotic medley leading up to our spectacular Fireworks display\; and on Sunday spectators will view an amazing Sky Diving extravaganza.
X-ALT-DESC;FMTTYPE=text/html:<span style="background-color: rgb(255\, 255\, 255)\;"><font face="verdana"><span style="font-size: 11px\; line-height: 15px\;">Festivities include: Over 50 of the Seacoasts top restaurants serving an abundance of mouthwatering seafood delicacies\; 80 Arts &amp\; Crafts vendors promoting locally made products\; hundreds of Ocean Boulevard merchants offering end-of-the-season Sidewalk Sales\; a Kiddie Land with the&nbsp\;regional&nbsp\;most notable Celebrities in&nbsp\;Children&nbsp\;Entertainment\; continuous Culinary Chef&nbsp\;Demonstrations produced by Pat Whitley\; and two stages of continuous entertainment with 15 Bands and Orchestras. We are also planned two Main Events-- on Saturday\, the United States Air Force Band of Liberty will perform an inspiring patriotic medley leading up to our spectacular Fireworks display\; and on Sunday spectators will view an amazing Sky Diving extravaganza.</span></font></span>
LOCATION:
UID:e.1659.2137
SEQUENCE:3
DTSTAMP:20260419T161849Z
URL:https://business.portsmouthchamber.org/events/details/hampton-beach-seafood-festival-09-06-2014-2137
END:VEVENT

END:VCALENDAR
