BEGIN:VCALENDAR
VERSION:2.0
PRODID:-//ChamberMaster//Event Calendar 2.0//EN
METHOD:PUBLISH
X-PUBLISHED-TTL:P3D
REFRESH-INTERVAL:P3D
CALSCALE:GREGORIAN
BEGIN:VEVENT
DTSTART:20170430T000000Z
DTEND:20170430T030000Z
X-MICROSOFT-CDO-ALLDAYEVENT:FALSE
SUMMARY:Hampton Casino Ball Room presents: Get the Led Out
DESCRIPTION:Get The Led Out is a group of professional musicians who are passionate about their love of the music of Led Zeppelin. It's been their mission to bring the studio recordings of "the mighty Zep" to life on the big concert stage. This is not an impersonator act but rather a group of musicians who were fans first\, striving to do justice to one of the greatest bands in rock history!
X-ALT-DESC;FMTTYPE=text/html:Get The Led Out is a group of professional musicians who are passionate about their love of the music of Led Zeppelin. It&#39\;s been their mission to bring the studio recordings of &quot\;the mighty Zep&quot\; to life on the big concert stage. This is not an impersonator act but rather a group of musicians who were fans first\, striving to do justice to one of the greatest bands in rock history!
LOCATION:169 Ocean Boulevard Hampton Beach\, NH
UID:e.1659.29876
SEQUENCE:3
DTSTAMP:20260421T131942Z
URL:https://business.portsmouthchamber.org/events/details/hampton-casino-ball-room-presents-get-the-led-out-29876
END:VEVENT

END:VCALENDAR
