BEGIN:VCALENDAR
VERSION:2.0
PRODID:-//ChamberMaster//Event Calendar 2.0//EN
METHOD:PUBLISH
X-PUBLISHED-TTL:P3D
REFRESH-INTERVAL:P3D
CALSCALE:GREGORIAN
BEGIN:VEVENT
DTSTART:20170626T000000Z
DTEND:20170626T030000Z
X-MICROSOFT-CDO-ALLDAYEVENT:FALSE
SUMMARY:Hampton Casino Ball Room presents: Happy Together Tour 2017
DESCRIPTION:The Turtles featuring Flo & Eddie\n	Chuck Negron formerly of Three Dog Night\n	The Association \n	The Cowsills\n	The Box Tops\n	The Archies Ron Dante\n\n\n\nThis is an evening of hit after hit....after HIT! Go home whistling the soundtrack of the 60's and 70's!
X-ALT-DESC;FMTTYPE=text/html:<ul>\n	<li>The Turtles featuring Flo &amp\; Eddie</li>\n	<li>Chuck Negron formerly of Three Dog Night</li>\n	<li>The Association&nbsp\;</li>\n	<li>The Cowsills</li>\n	<li>The Box Tops</li>\n	<li>The Archies Ron Dante</li>\n</ul>\n<br />\nThis is an evening of hit after hit....after HIT! Go home whistling the soundtrack of the 60&#39\;s and 70&#39\;s!
LOCATION:169 Ocean Boulevard Hampton Beach\, NH
UID:e.1659.29880
SEQUENCE:3
DTSTAMP:20260419T134939Z
URL:https://business.portsmouthchamber.org/events/details/hampton-casino-ball-room-presents-happy-together-tour-2017-29880
END:VEVENT

END:VCALENDAR
