BEGIN:VCALENDAR
VERSION:2.0
PRODID:-//ChamberMaster//Event Calendar 2.0//EN
METHOD:PUBLISH
X-PUBLISHED-TTL:P3D
REFRESH-INTERVAL:P3D
CALSCALE:GREGORIAN
BEGIN:VEVENT
DTSTART;VALUE=DATE:20170506
DTEND;VALUE=DATE:20170507
TRANSP:TRANSPARENT
X-MICROSOFT-CDO-ALLDAYEVENT:TRUE
SUMMARY:Hampton Casino Ball Room presents: NEEDTOBREATHE with special guest Colony House
DESCRIPTION:NEEDTOBREATHE is a GRAMMY-nominated rock band hailing from South Carolina\, comprised of brothers Bear Rinehart (vocals\, guitar) and Bo Rinehart (guitar\, vocals)\, Seth Bolt (bass\, vocals)\, and Josh Lovelace (keys\, vocals). \n\n\n\n\n\nTheir new album H A R D L O V E released Summer 2016 and debuted at #1 on the Billboard Top Albums\, Top Current Albums\, Top Rock Albums and Top Alternative Albums charts and #2 on the Billboard 200\, their greatest debut yet.\n\n\n\n\n\n H A R D L O V E is the follow-up to 2014's Rivers In the Wasteland\, which debuted at #3 overall on the Billboard 200 and spawned the RIAA-certified Gold single "Brother (feat. Gavin DeGraw)." The hit earned the group their first GRAMMY nomination as well as a pair of Billboard Music Award nominations.\n\n\n\n\n\n NEEDTOBREATHE\, well known for the aggressive touring schedule and impressive live show\, have spent the last two years criss-crossing the country on TOUR DE COMPADRES  an extensive\, headlining tour featuring the band and their closest musical friends. Highlights include back-to-back sold out shows at Red Rocks Amphitheatre\, as well as Greek Theatre (Los Angeles)\, Ascend Amphitheatre (Nashville)\, Aragon Ballroom (Chicago)\, Verizon Theatre (DFW) and more.
X-ALT-DESC;FMTTYPE=text/html:NEEDTOBREATHE is a GRAMMY-nominated rock band hailing from South Carolina\, comprised of brothers Bear Rinehart (vocals\, guitar) and Bo Rinehart (guitar\, vocals)\, Seth Bolt (bass\, vocals)\, and Josh Lovelace (keys\, vocals).&nbsp\;<br />\n<br />\n<br />\nTheir new album H A R D L O V E released Summer 2016 and debuted at #1 on the Billboard Top Albums\, Top Current Albums\, Top Rock Albums and Top Alternative Albums charts and #2 on the Billboard 200\, their greatest debut yet.<br />\n<br />\n<br />\n&nbsp\;H A R D L O V E is the follow-up to 2014&rsquo\;s Rivers In the Wasteland\, which debuted at #3 overall on the Billboard 200 and spawned the RIAA-certified Gold single &ldquo\;Brother (feat. Gavin DeGraw).&rdquo\; The hit earned the group their first GRAMMY nomination as well as a pair of Billboard Music Award nominations.<br />\n<br />\n<br />\n&nbsp\;NEEDTOBREATHE\, well known for the aggressive touring schedule and impressive live show\, have spent the last two years criss-crossing the country on TOUR DE COMPADRES&ndash\; an extensive\, headlining tour featuring the band and their closest musical friends. Highlights include back-to-back sold out shows at Red Rocks Amphitheatre\, as well as Greek Theatre (Los Angeles)\, Ascend Amphitheatre (Nashville)\, Aragon Ballroom (Chicago)\, Verizon Theatre (DFW) and more.&nbsp\;
LOCATION:169 Ocean Boulevard Hampton Beach\, NH
UID:e.1659.29877
SEQUENCE:3
DTSTAMP:20260421T121711Z
URL:https://business.portsmouthchamber.org/events/details/hampton-casino-ball-room-presents-needtobreathe-with-special-guest-colony-house-29877
END:VEVENT

END:VCALENDAR
