BEGIN:VCALENDAR
VERSION:2.0
PRODID:-//ChamberMaster//Event Calendar 2.0//EN
METHOD:PUBLISH
X-PUBLISHED-TTL:P3D
REFRESH-INTERVAL:P3D
CALSCALE:GREGORIAN
BEGIN:VEVENT
DTSTART:20160322T200000Z
DTEND:20160323T010000Z
X-MICROSOFT-CDO-ALLDAYEVENT:FALSE
SUMMARY:Hampton Flatbread Company Benefit Night!
DESCRIPTION:Join the New Hampshire SPCA on Tuesday\, March 22\, 2016 from 4-9PM at the Flatbread Company in Hampton\, NH to help raise money for the homeless animals! The Flatbread Company in Hampton\, NH will be hosting a benefit night to help raise money and awareness for the nearly 2\,500 homeless and neglected animals that are brought to the New Hampshire SPCA every year. A donation will be made for each large and each small pizza sold during the night. It's valid for dine-in and take-out so drop by and grab some pizza!
X-ALT-DESC;FMTTYPE=text/html:Join the New Hampshire SPCA on Tuesday\, March 22\, 2016 from 4-9PM at the Flatbread Company in Hampton\, NH to help raise money for the homeless animals! The Flatbread Company in Hampton\, NH will be hosting a benefit night to help raise money and awareness for the nearly 2\,500 homeless and neglected animals that are brought to the New Hampshire SPCA every year. A donation will be made for each large and each small pizza sold during the night. It&#39\;s valid for dine-in and take-out so drop by and grab some pizza!
LOCATION:Hampton Flatbread Company 61 High St Hampton\, NH 03842
UID:e.1659.15898
SEQUENCE:3
DTSTAMP:20260420T144848Z
URL:https://business.portsmouthchamber.org/events/details/hampton-flatbread-company-benefit-night-03-22-2016-15898
END:VEVENT

END:VCALENDAR
