BEGIN:VCALENDAR
VERSION:2.0
PRODID:-//ChamberMaster//Event Calendar 2.0//EN
METHOD:PUBLISH
X-PUBLISHED-TTL:P3D
REFRESH-INTERVAL:P3D
CALSCALE:GREGORIAN
BEGIN:VEVENT
DTSTART:20131019T203000Z
DTEND:20131019T223000Z
X-MICROSOFT-CDO-ALLDAYEVENT:FALSE
SUMMARY:HARVEST SUPPER
DESCRIPTION:MIDDLE STREET BAPTIST CHURCH ANNUAL HARVEST DINNER *OVEN BAKED CHICKEN *MASHED POTATOES *WINTER SQUASH *COLE SLAW *CRANBERRY SAUCE *HOMEMADE PIES
X-ALT-DESC;FMTTYPE=text/html:MIDDLE STREET BAPTIST CHURCH ANNUAL HARVEST DINNER *OVEN BAKED CHICKEN *MASHED POTATOES *WINTER SQUASH *COLE SLAW *CRANBERRY SAUCE *HOMEMADE PIES
LOCATION:MIDDLE STREET BAPTIST CHURCH 18 COURT STREET PORTSMOUTH at the corner of Court and Middle Street www.middlestreetbaptist.org
UID:e.1659.722
SEQUENCE:3
DTSTAMP:20260420T072213Z
URL:https://business.portsmouthchamber.org/events/details/harvest-supper-10-19-2013-722
END:VEVENT

END:VCALENDAR
