BEGIN:VCALENDAR
VERSION:2.0
PRODID:-//ChamberMaster//Event Calendar 2.0//EN
METHOD:PUBLISH
X-PUBLISHED-TTL:P3D
REFRESH-INTERVAL:P3D
CALSCALE:GREGORIAN
BEGIN:VEVENT
DTSTART:20150211T230000Z
DTEND:20150212T003000Z
X-MICROSOFT-CDO-ALLDAYEVENT:FALSE
SUMMARY:Heart Health Workshop
DESCRIPTION:In this 1 hour presentation\, learn what the 7 Steps are: to Reduce Cholesterol\, Blood Pressure and Heart Disease (which is one of the top 3 killers in the United States ) and\, more importantly how we and our families can avoid becoming just another statistic.
X-ALT-DESC;FMTTYPE=text/html:In this 1 hour presentation\, learn what the 7 Steps are: to Reduce Cholesterol\, Blood Pressure and Heart Disease (which is one of the top 3 killers in the United States ) and\, more importantly how we and our families can avoid becoming just another statistic.
LOCATION:Exeter Chamber of Commerce 24 Front Street Exeter\, NH 03833
UID:e.1659.6311
SEQUENCE:3
DTSTAMP:20260421T102401Z
URL:https://business.portsmouthchamber.org/events/details/heart-health-workshop-02-11-2015-6311
END:VEVENT

END:VCALENDAR
