BEGIN:VCALENDAR
VERSION:2.0
PRODID:-//ChamberMaster//Event Calendar 2.0//EN
METHOD:PUBLISH
X-PUBLISHED-TTL:P3D
REFRESH-INTERVAL:P3D
CALSCALE:GREGORIAN
BEGIN:VEVENT
DTSTART:20140824T230000Z
DTEND:20140825T030000Z
X-MICROSOFT-CDO-ALLDAYEVENT:FALSE
SUMMARY:Hilarity: Miss Richfield 1981 "Play with my Poodle"
DESCRIPTION:Back by popular demand with a new show and new laughs! Miss Richfield is on the prowl to find Mr. Right  now! In her all new show\, she joyously looks for a suitable mate with color videos\, twisted sing-a-longs\, and a healthy heap of audience interaction. Don't miss this Music Hall summer favorite.
X-ALT-DESC;FMTTYPE=text/html:<span style="color: rgb(102\, 102\, 102)\; line-height: 22px\; font-family: &quot\;Droid Sans&quot\;\, &quot\;Lucida Grande&quot\;\, Arial\, sans-serif\; font-size: 14px\;">Back by popular demand with a new show and new laughs! Miss Richfield is on the prowl to find Mr. Right&hellip\; now! In her all new show\, she joyously looks for a suitable mate with color videos\, twisted sing-a-longs\, and a healthy heap of audience interaction. Don&rsquo\;t miss this Music Hall summer favorite.</span>
LOCATION:The Music Hall Loft
UID:e.1659.2180
SEQUENCE:3
DTSTAMP:20260419T175937Z
URL:https://business.portsmouthchamber.org/events/details/hilarity-miss-richfield-1981-play-with-my-poodle-08-24-2014-2180
END:VEVENT

END:VCALENDAR
