BEGIN:VCALENDAR
VERSION:2.0
PRODID:-//ChamberMaster//Event Calendar 2.0//EN
METHOD:PUBLISH
X-PUBLISHED-TTL:P3D
REFRESH-INTERVAL:P3D
CALSCALE:GREGORIAN
BEGIN:VEVENT
DTSTART:20260103T180000Z
DTEND:20260103T200000Z
X-MICROSOFT-CDO-ALLDAYEVENT:FALSE
SUMMARY:HOLIDAY: Gingerbread Smash
DESCRIPTION:Gingerbread Smash\n\nSaturday\, January 3rd\, 2026\n\n1pm at Portsmouth Historical Society\n\n\nGingerbread memories may last forever\, but gingerbread houses do not. Come release the last of that pent up holiday stress and send the gingerbread contest houses out in style at the Gingerbread Smash! \n\nWhether by sledgehammer or good old-fashioned Godzilla stomp\, wreak havoc on a gingerbread house and then let us compost all the bits and pieces!\n\nYour support helps keep our annual Gingerbread exhibition free and accessible to all.  \n\nThank you to EnviroVantage for providing personal protective equipment\, sledgehammers\, and waste removal\, and to Mr. Fox for composting the crumbs.
X-ALT-DESC;FMTTYPE=text/html:<h1><span style="color:rgb(128\, 0\, 0)"><strong>Gingerbread Smash</strong></span></h1>\n\n<h3><span style="color:rgb(114\, 9\, 9)"><strong>Saturday\, January 3rd\, 2026</strong></span></h3>\n\n<h3><span style="color:rgb(114\, 9\, 9)"><strong>1pm at Portsmouth Historical Society</strong></span></h3>\n\n<div>\n<p>Gingerbread memories may last forever\, but gingerbread houses do not. Come release the last of that pent up holiday stress and send the gingerbread contest houses out in style at the Gingerbread Smash!&nbsp\;</p>\n\n<p>Whether by sledgehammer or good old-fashioned Godzilla stomp\, wreak havoc on a gingerbread house and then let us compost all the bits and pieces!</p>\n\n<p>Your support helps keep our annual Gingerbread exhibition free and accessible to all.&nbsp\;&nbsp\;</p>\n\n<p>Thank you to EnviroVantage for providing personal protective equipment\, sledgehammers\, and waste removal\, and to Mr. Fox for composting the crumbs.</p>\n</div>\n
LOCATION:Portsmouth Historical Society 10 Middle Street\, Portsmouth NH
UID:e.1659.87019
SEQUENCE:3
DTSTAMP:20260423T085807Z
URL:https://business.portsmouthchamber.org/events/details/holiday-gingerbread-smash-87019
END:VEVENT

END:VCALENDAR
