BEGIN:VCALENDAR
VERSION:2.0
PRODID:-//ChamberMaster//Event Calendar 2.0//EN
METHOD:PUBLISH
X-PUBLISHED-TTL:P3D
REFRESH-INTERVAL:P3D
CALSCALE:GREGORIAN
BEGIN:VEVENT
DTSTART:20251213T180000Z
DTEND:20251213T200000Z
X-MICROSOFT-CDO-ALLDAYEVENT:FALSE
SUMMARY:HOLIDAY: New Favorites Cookie Swap
DESCRIPTION:Discover a new holiday tradition and enjoy the Gingerbread Contest!\n\n\n\nCome celebrate the holidays with the Portsmouth Historical Society at our New Favorites Cookie Swap! To go along with this year's Great Gingerbread Experiment theme\, try out a brand new recipe or experiment with something tried and true and bring two dozen cookies or treats to share with participants! You'll get a chance to show off your amazing holiday treats\, and take home plenty of new cookies to try. \n\nAfter the cookie swap\, stay and check out our 35th annual Gingerbread House Contest and Exhibition!
X-ALT-DESC;FMTTYPE=text/html:<h3>Discover a new holiday tradition and enjoy the Gingerbread Contest!<br />\n<br />\n<span style="font-size:13px">Come celebrate the holidays with the Portsmouth Historical Society at our New Favorites Cookie Swap! To go along with this year&rsquo\;s Great Gingerbread Experiment theme\, try out a brand new recipe or experiment with something tried and true and bring two dozen cookies or treats to share with participants! You&rsquo\;ll get a chance to show off your amazing holiday treats\, and take home plenty of new cookies to try.&nbsp\;</span></h3>\n\n<p>After the cookie swap\, stay and check out our 35th annual Gingerbread House Contest and Exhibition!</p>\n
LOCATION:Portsmouth Historical Society 10 Middle Street\, Portsmouth NH
UID:e.1659.87018
SEQUENCE:3
DTSTAMP:20260423T151246Z
URL:https://business.portsmouthchamber.org/events/details/holiday-new-favorites-cookie-swap-87018
END:VEVENT

END:VCALENDAR
