BEGIN:VCALENDAR
VERSION:2.0
PRODID:-//ChamberMaster//Event Calendar 2.0//EN
METHOD:PUBLISH
X-PUBLISHED-TTL:P3D
REFRESH-INTERVAL:P3D
CALSCALE:GREGORIAN
BEGIN:VEVENT
DTSTART:20251206T140000Z
DTEND:20251207T220000Z
X-MICROSOFT-CDO-ALLDAYEVENT:FALSE
SUMMARY:Holiday Open House at Perch + Petal by Bell Farm
DESCRIPTION:Join us for our Holiday Open House event! Enjoy 10% off* the entire store! When: Saturday\, December 6th and Sunday\, December 7th Hours: Saturday 9am-6pm & Sunday 10am-5pm *10% off excludes bird seed\, already reduced merchandise\, custom orders\, & large furniture display pieces. We will also have a free gift with a purchase of $100 or more while supplies last. There will be giveaways at randomly selected times!
X-ALT-DESC;FMTTYPE=text/html:Join us for our Holiday Open House event! Enjoy 10% off* the entire store! When: Saturday\, December 6th and Sunday\, December 7th Hours: Saturday 9am-6pm &amp\; Sunday 10am-5pm *10% off excludes bird seed\, already reduced merchandise\, custom orders\, &amp\; large furniture display pieces. We will also have a free gift with a purchase of $100 or more while supplies last. There will be giveaways at randomly selected times!
LOCATION:Perch + Petal by Bell Farm 105 Daniel Street Portsmouth NH 03801
UID:e.1659.86909
SEQUENCE:3
DTSTAMP:20260423T133545Z
URL:https://business.portsmouthchamber.org/events/details/holiday-open-house-at-perch-petal-by-bell-farm-86909
END:VEVENT

END:VCALENDAR
