BEGIN:VCALENDAR
VERSION:2.0
PRODID:-//ChamberMaster//Event Calendar 2.0//EN
METHOD:PUBLISH
X-PUBLISHED-TTL:P3D
REFRESH-INTERVAL:P3D
CALSCALE:GREGORIAN
BEGIN:VEVENT
DTSTART:20161209T204500Z
DTEND:20161210T000000Z
X-MICROSOFT-CDO-ALLDAYEVENT:FALSE
SUMMARY:Hop Aboard with the Children's Museum of New Hampshire on the Jingle Bell Express
DESCRIPTION:Put on your PJ's and hop aboard C&J's doubledecker bus for a magical journey to DeMeritt Hill Farm where you will enjoy homemade cider donuts\, hot chocolate\, a reading of The Polar Express and a keepsake gift for each child delivered by a very special guest! Pajamas are welcome! Ticket price includes a keepsake family photo\, time to explore the Children's Museum of New Hampshire and a make-and-take holiday craft.
X-ALT-DESC;FMTTYPE=text/html:Put on your PJ&rsquo\;s and hop aboard C&amp\;J&rsquo\;s doubledecker bus for a magical journey to DeMeritt Hill Farm where you will enjoy homemade cider donuts\, hot chocolate\, a reading of The Polar Express and a keepsake gift for each child delivered by a very special guest! Pajamas are welcome! Ticket price includes a keepsake family photo\, time to explore the Children&rsquo\;s Museum of New Hampshire and a make-and-take holiday craft.
LOCATION:Children's Museum of New Hampshire 6 Washington Street Dover\, NH
UID:e.1659.27625
SEQUENCE:3
DTSTAMP:20260421T195946Z
URL:https://business.portsmouthchamber.org/events/details/hop-aboard-with-the-children-s-museum-of-new-hampshire-on-the-jingle-bell-express-27625
END:VEVENT

END:VCALENDAR
