BEGIN:VCALENDAR
VERSION:2.0
PRODID:-//ChamberMaster//Event Calendar 2.0//EN
METHOD:PUBLISH
X-PUBLISHED-TTL:P3D
REFRESH-INTERVAL:P3D
CALSCALE:GREGORIAN
BEGIN:VEVENT
DTSTART;VALUE=DATE:20251126
DTEND;VALUE=DATE:20251127
TRANSP:TRANSPARENT
X-MICROSOFT-CDO-ALLDAYEVENT:TRUE
SUMMARY:Howling Wolf Taqueria Hosts “Pack Night: Friendsgiving Edition” with Free Taco Bar
DESCRIPTION:Friendsgiving hits different at Howling Wolf Taqueria. On November 26\, the favorite neighborhood spot will reprise its "Pack Night" series by hosting a specialty Thanksgiving pregame with its signature Mexican twist.\n\n\n\nArguably the biggest drinking night of the year\, marked by reuniting with members of your pack past-and-present\, Howling Wolf Taqueria reminds you to "feed the good wolf" during all that imbibing by popping up with a free taco bar beginning at 9pm. In between double-fisting tasty tacos\, channel your inner-wolf with Gran Centenario tequila tastings. In the spirit of living for the nights you can't remember with the people that you won't forget\, remember to stash your Gran Centenario swag* early as a memento of that one Friendsgiving at The Wolf.\n\n\n\nComplimentary Gran Centenario tastings and swag available while supplies last. Access to complimentary taco bar available at 9 p.m. with any food or beverage purchase.
X-ALT-DESC;FMTTYPE=text/html:Friendsgiving hits different at Howling Wolf Taqueria. On November 26\, the favorite neighborhood spot will reprise its &ldquo\;Pack Night&rdquo\; series by hosting a specialty Thanksgiving pregame with its signature Mexican twist.<br />\n<br />\nArguably the biggest drinking night of the year\, marked by reuniting with members of your pack past-and-present\, Howling Wolf Taqueria reminds you to &ldquo\;feed the good wolf&rdquo\; during all that imbibing by popping up with a free taco bar beginning at 9pm. In between double-fisting tasty tacos\, channel your inner-wolf with Gran Centenario tequila tastings. In the spirit of living for the nights you can&#39\;t remember with the people that you won&#39\;t forget\, remember to stash your Gran Centenario swag* early as a memento of that one Friendsgiving at The Wolf.<br />\n<br />\nComplimentary Gran Centenario tastings and swag available while supplies last. Access to complimentary taco bar available at 9 p.m. with any food or beverage purchase.
LOCATION:Howling Wolf Taqueria 40 Pleasant Street Portsmouth\, NH\, 03801
UID:e.1659.86908
SEQUENCE:3
DTSTAMP:20260423T170350Z
URL:https://business.portsmouthchamber.org/events/details/howling-wolf-taqueria-hosts-pack-night-friendsgiving-edition-with-free-taco-bar-86908
END:VEVENT

END:VCALENDAR
