BEGIN:VCALENDAR
VERSION:2.0
PRODID:-//ChamberMaster//Event Calendar 2.0//EN
METHOD:PUBLISH
X-PUBLISHED-TTL:P3D
REFRESH-INTERVAL:P3D
CALSCALE:GREGORIAN
BEGIN:VEVENT
DTSTART:20160116T020000Z
DTEND:20160116T040000Z
X-MICROSOFT-CDO-ALLDAYEVENT:FALSE
SUMMARY:Ian Ethan Case at Book & Bar
DESCRIPTION:Live music!
X-ALT-DESC;FMTTYPE=text/html:Live music!
LOCATION:Book & Bar 40 Pleasant Street\, Portsmouth
UID:e.1659.13393
SEQUENCE:3
DTSTAMP:20260420T115413Z
URL:https://business.portsmouthchamber.org/events/details/ian-ethan-case-at-book-bar-01-15-2016-13393
END:VEVENT

END:VCALENDAR
