BEGIN:VCALENDAR
VERSION:2.0
PRODID:-//ChamberMaster//Event Calendar 2.0//EN
METHOD:PUBLISH
X-PUBLISHED-TTL:P3D
REFRESH-INTERVAL:P3D
CALSCALE:GREGORIAN
BEGIN:VEVENT
DTSTART:20160317T213000Z
DTEND:20160317T230000Z
X-MICROSOFT-CDO-ALLDAYEVENT:FALSE
SUMMARY:Illuminating Tarbell Lecture #1 "Edmund C. Tarbell: Poet of Domesticity"
DESCRIPTION:Join us for our first Tarbell lecture! We will be joined by Laurene Buckley\, Ph.D.\, art historian\, author (Edmund C. Tarbell: Poet of Domesticity [Hudson Hills]\; Joseph DeCamp: Master Painter of the Boston School [Prestel]\; Theodore Wendel: Bringing Impressionism Home)\, lecturer\, and museum consultant to the American Alliance of Museums. Dr. Buckley's museum credentials include the directorships of the Susquehanna Art Museum\, Harrisburg\, Pennsylvania\; Jersey City Art Museum\, Niagara University's Castellani Art Museum\; Queens Museum of Art\, New York\; and New Britain Museum of American Art\, Connecticut. The "lecture/conversation" about Edmund Tarbell will briefly outline the artist's career\, including the family's life in New Castle\, while tracing his various stylistic periods along the way. For reservations\, please call Discover Portsmouth at 603-436-8433 or visit www.portsmouthhistory.org
X-ALT-DESC;FMTTYPE=text/html:Join us for our first Tarbell lecture! We will be joined by Laurene Buckley\, Ph.D.\, art historian\, author (Edmund C. Tarbell: Poet of Domesticity [Hudson Hills]\; Joseph DeCamp: Master Painter of the Boston School [Prestel]\; Theodore Wendel: Bringing Impressionism Home)\, lecturer\, and museum consultant to the American Alliance of Museums. Dr. Buckley&#39\;s museum credentials include the directorships of the Susquehanna Art Museum\, Harrisburg\, Pennsylvania\; Jersey City Art Museum\, Niagara University&#39\;s Castellani Art Museum\; Queens Museum of Art\, New York\; and New Britain Museum of American Art\, Connecticut. The &quot\;lecture/conversation&quot\; about Edmund Tarbell will briefly outline the artist&#39\;s career\, including the family&#39\;s life in New Castle\, while tracing his various stylistic periods along the way. For reservations\, please call Discover Portsmouth at 603-436-8433 or visit www.portsmouthhistory.org
LOCATION:Discover Portsmouth 10 Middle Street Portsmouth\, NH 03801
UID:e.1659.18203
SEQUENCE:3
DTSTAMP:20260420T150405Z
URL:https://business.portsmouthchamber.org/events/details/illuminating-tarbell-lecture-1-edmund-c-tarbell-poet-of-domesticity-03-17-2016-18203
END:VEVENT

END:VCALENDAR
