BEGIN:VCALENDAR
VERSION:2.0
PRODID:-//ChamberMaster//Event Calendar 2.0//EN
METHOD:PUBLISH
X-PUBLISHED-TTL:P3D
REFRESH-INTERVAL:P3D
CALSCALE:GREGORIAN
BEGIN:VEVENT
DTSTART:20160304T220000Z
DTEND:20160305T010000Z
X-MICROSOFT-CDO-ALLDAYEVENT:FALSE
SUMMARY:Illuminating Tarbell: Life and Art on the Piscataqua
DESCRIPTION:Opening Night!! Illuminating Tarbell is a unique two-part show\, with the largest local gathering of Tarbell's original work\, plus a companion gallery featuring six contemporary painters working in the Tarbell style. Running through Friday June 3\, the dual exhibit also includes a lecture series\, a 72-page color catalogue\, and a re-creation of Tarbell's seaside New Castle\, NH studio.
X-ALT-DESC;FMTTYPE=text/html:Opening Night!! Illuminating Tarbell is a unique two-part show\, with the largest local gathering of Tarbell&#39\;s original work\, plus a companion gallery featuring six contemporary painters working in the Tarbell style. Running through Friday June 3\, the dual exhibit also includes a lecture series\, a 72-page color catalogue\, and a re-creation of Tarbell&#39\;s seaside New Castle\, NH studio.
LOCATION:Discover Portsmouth 10 Middle St. Portsmouth\, NH
UID:e.1659.15937
SEQUENCE:3
DTSTAMP:20260420T150045Z
URL:https://business.portsmouthchamber.org/events/details/illuminating-tarbell-life-and-art-on-the-piscataqua-03-04-2016-15937
END:VEVENT

END:VCALENDAR
