BEGIN:VCALENDAR
VERSION:2.0
PRODID:-//ChamberMaster//Event Calendar 2.0//EN
METHOD:PUBLISH
X-PUBLISHED-TTL:P3D
REFRESH-INTERVAL:P3D
CALSCALE:GREGORIAN
BEGIN:VEVENT
DTSTART:20160311T000000Z
DTEND:20160311T020000Z
X-MICROSOFT-CDO-ALLDAYEVENT:FALSE
SUMMARY:Innovation & Leadership @ The Music Hall Loft - Charles Duhigg
DESCRIPTION:From Pulitzer Prize-winning investigative reporter and author of bestselling phenomenon\, The Power of Habit\, comes a new book that explores the science of productivity\, and why\, in today's world\, managing how you think rather than what you think can transform your life. Smarter Faster Better is the result of Charles Duhigg's investigation into how productivity works. By seeking out data scientists at Google\, the filmmakers behind Disney's Frozen\, airplane pilots\, and educational reformers in the public school system\, among many other fascinating case studies\, Duhigg has identified eight ideas that are at the core of why some people and companies get so much done.\n\nThe Power of Habit spent over 120 weeks on New York Timesbestseller lists and was called "a first-rate book based on an impressive mass of research\, written in a lively style and providing just the right balance of intellectual seriousness with practical advice" by The Economist. Charles Duhigg is a graduate of Yale University and Harvard Business School. He has received the George Polk\, the National Academies of Science and other awards. Don't miss hearing from him   an event that could be life-changing!
X-ALT-DESC;FMTTYPE=text/html:<p style="margin: 0px 0px 15px\; padding: 0px\; color: rgb(102\, 102\, 102)\; font-family: 'Droid Sans'\, 'Lucida Grande'\, Arial\, sans-serif\; font-size: 16.8px\; line-height: 26.4px\;">From Pulitzer Prize-winning investigative reporter and author of bestselling phenomenon\,&nbsp\;<em>The Power of Habit</em>\, comes a new book that explores the science of productivity\, and why\, in today&rsquo\;s world\, managing how you think&mdash\;rather than what you think&mdash\;can transform your life.&nbsp\;<em>Smarter Faster Better</em>&nbsp\;is the result of Charles Duhigg&rsquo\;s investigation into how productivity works. By seeking out data scientists at Google\, the filmmakers behind Disney&rsquo\;s&nbsp\;<em>Frozen</em>\, airplane pilots\, and educational reformers in the public school system\, among many other fascinating case studies\, Duhigg has identified eight ideas that are at the core of why some people and companies get so much done.</p>\n\n<p style="margin: 0px 0px 15px\; padding: 0px\; color: rgb(102\, 102\, 102)\; font-family: 'Droid Sans'\, 'Lucida Grande'\, Arial\, sans-serif\; font-size: 16.8px\; line-height: 26.4px\;"><em>The Power of Habit</em>&nbsp\;spent over 120 weeks on&nbsp\;<em>New York </em><em>Times</em>bestseller lists and was called &ldquo\;a first-rate book&mdash\;based on an impressive mass of research\, written in a lively style and providing just the right balance of intellectual seriousness with practical advice&rdquo\; by&nbsp\;<em>The Economist</em>. Charles Duhigg is a graduate of Yale University and Harvard Business School. He has received the George Polk\, the National Academies of Science and other awards. Don&rsquo\;t miss hearing from him &ndash\; an event that could be life-changing!</p>\n
LOCATION:The Music Hall Loft 131 Congress Street\, Portsmouth
UID:e.1659.16694
SEQUENCE:3
DTSTAMP:20260420T145908Z
URL:https://business.portsmouthchamber.org/events/details/innovation-leadership-the-music-hall-loft-charles-duhigg-03-10-2016-16694
END:VEVENT

END:VCALENDAR
