BEGIN:VCALENDAR
VERSION:2.0
PRODID:-//ChamberMaster//Event Calendar 2.0//EN
METHOD:PUBLISH
X-PUBLISHED-TTL:P3D
REFRESH-INTERVAL:P3D
CALSCALE:GREGORIAN
BEGIN:VEVENT
DTSTART:20140806T233000Z
DTEND:20140807T030000Z
X-MICROSOFT-CDO-ALLDAYEVENT:FALSE
SUMMARY:Intimately Yours: Jackie Evancho
DESCRIPTION:Jackie Evancho is the breakout star from America's Got Talent and was the biggest selling debut artist of 2011. Her three full-length albums (Heavenly Christmas\, Dream With Me and Songs From The Silver Screen)\, each raced to the top of the Billboard charts. At Just 12 years old\, Jackie was named toBillboard Magazine's "21 under 21" list for a second time. In 2014 she will release a new album\, a new PBS special\,  and a world tour. For her appearance at The Music Hall she will be accompanied by the Parma Orchestra.
X-ALT-DESC;FMTTYPE=text/html:<span style="color: rgb(102\, 102\, 102)\; line-height: 22px\; font-family: &quot\;Droid Sans&quot\;\, &quot\;Lucida Grande&quot\;\, Arial\, sans-serif\; font-size: 14px\;">Jackie Evancho is the breakout star from</span><em style="color: rgb(102\, 102\, 102)\; line-height: 22px\; font-family: &quot\;Droid Sans&quot\;\, &quot\;Lucida Grande&quot\;\, Arial\, sans-serif\; font-size: 14px\;">&nbsp\;America&rsquo\;s Got Talent</em><span style="color: rgb(102\, 102\, 102)\; line-height: 22px\; font-family: &quot\;Droid Sans&quot\;\, &quot\;Lucida Grande&quot\;\, Arial\, sans-serif\; font-size: 14px\;">&nbsp\;and was the biggest selling debut artist of 2011. Her three full-length albums&nbsp\;</span><em style="color: rgb(102\, 102\, 102)\; line-height: 22px\; font-family: &quot\;Droid Sans&quot\;\, &quot\;Lucida Grande&quot\;\, Arial\, sans-serif\; font-size: 14px\;">(Heavenly Christmas\, Dream With Me</em><span style="color: rgb(102\, 102\, 102)\; line-height: 22px\; font-family: &quot\;Droid Sans&quot\;\, &quot\;Lucida Grande&quot\;\, Arial\, sans-serif\; font-size: 14px\;">&nbsp\;and&nbsp\;</span><em style="color: rgb(102\, 102\, 102)\; line-height: 22px\; font-family: &quot\;Droid Sans&quot\;\, &quot\;Lucida Grande&quot\;\, Arial\, sans-serif\; font-size: 14px\;">Songs From The Silver Screen</em><span style="color: rgb(102\, 102\, 102)\; line-height: 22px\; font-family: &quot\;Droid Sans&quot\;\, &quot\;Lucida Grande&quot\;\, Arial\, sans-serif\; font-size: 14px\;">)\, each raced to the top of the Billboard charts. At Just 12 years old\, Jackie was named to</span><em style="color: rgb(102\, 102\, 102)\; line-height: 22px\; font-family: &quot\;Droid Sans&quot\;\, &quot\;Lucida Grande&quot\;\, Arial\, sans-serif\; font-size: 14px\;">Billboard Magazine&rsquo\;s&nbsp\;</em><span style="color: rgb(102\, 102\, 102)\; line-height: 22px\; font-family: &quot\;Droid Sans&quot\;\, &quot\;Lucida Grande&quot\;\, Arial\, sans-serif\; font-size: 14px\;">&ldquo\;21 under 21&rdquo\; list for a second time. In 2014 she will release a new album\, a new PBS special\,&nbsp\; and a world tour. For her appearance at The Music Hall she will be accompanied by the Parma Orchestra.</span>
LOCATION:The Music Hall Historic Theater
UID:e.1659.2177
SEQUENCE:3
DTSTAMP:20260419T174143Z
URL:https://business.portsmouthchamber.org/events/details/intimately-yours-jackie-evancho-08-06-2014-2177
END:VEVENT

END:VCALENDAR
