BEGIN:VCALENDAR
VERSION:2.0
PRODID:-//ChamberMaster//Event Calendar 2.0//EN
METHOD:PUBLISH
X-PUBLISHED-TTL:P3D
REFRESH-INTERVAL:P3D
CALSCALE:GREGORIAN
BEGIN:VEVENT
DTSTART:20140715T233000Z
DTEND:20140716T030000Z
X-MICROSOFT-CDO-ALLDAYEVENT:FALSE
SUMMARY:Intimately Yours: Straight No Chaser
DESCRIPTION:Summer of Influence Tour\n\nOriginally formed over a dozen years ago while students together at Indiana University\, male a cappella group Straight No Chaser has reassembled and reemerged as a phenomenon with a massive fanbase\, more than 20 million views on YouTube\, numerous national TV appearances\, and proven success with two holiday releases.  These singers are the real deal\; the captivating sound of ten unadulterated human voices coming together to make extraordinary music with both heart and a sense of humor.\n\nTheir fourth album\, Under the Influence\, features contributions from Jason Mraz\, Rob Thomas\, Phil Collins\, Dolly Parton and more.
X-ALT-DESC;FMTTYPE=text/html:<h3 style="font-family: 'Droid Sans'\, Arial\, sans-serif\; font-size: 1.125rem\; line-height: 1.25rem\; color: rgb(3\, 41\, 65)\; margin: 30px 0px 15px\;">Summer of Influence Tour</h3>\n\n<p style="margin: 0px 0px 15px\; padding: 0px\; color: rgb(102\, 102\, 102)\; font-family: 'Droid Sans'\, 'Lucida Grande'\, Arial\, sans-serif\; font-size: 14px\; line-height: 22px\;">Originally formed over a dozen years ago while students together at Indiana University\, male a cappella group Straight No Chaser has reassembled and reemerged as a phenomenon&mdash\;with a massive fanbase\, more than 20 million views on YouTube\, numerous national TV appearances\, and proven success with two holiday releases.&nbsp\; These singers are the real deal\; the captivating sound of ten unadulterated human voices coming together to make extraordinary music with both heart and a sense of humor.</p>\n\n<p style="margin: 0px 0px 15px\; padding: 0px\; color: rgb(102\, 102\, 102)\; font-family: 'Droid Sans'\, 'Lucida Grande'\, Arial\, sans-serif\; font-size: 14px\; line-height: 22px\;">Their fourth album\,&nbsp\;<em>Under the Influence</em>\, features contributions from Jason Mraz\, Rob Thomas\, Phil Collins\, Dolly Parton and more.</p>\n
LOCATION:The Music Hall Historic Theater
UID:e.1659.2170
SEQUENCE:3
DTSTAMP:20260419T190013Z
URL:https://business.portsmouthchamber.org/events/details/intimately-yours-straight-no-chaser-07-15-2014-2170
END:VEVENT

END:VCALENDAR
