BEGIN:VCALENDAR
VERSION:2.0
PRODID:-//ChamberMaster//Event Calendar 2.0//EN
METHOD:PUBLISH
X-PUBLISHED-TTL:P3D
REFRESH-INTERVAL:P3D
CALSCALE:GREGORIAN
BEGIN:VEVENT
DTSTART:20160316T233000Z
DTEND:20160317T020000Z
X-MICROSOFT-CDO-ALLDAYEVENT:FALSE
SUMMARY:Intimately Yours @ The Historic Theater - Pink Martini
DESCRIPTION:Pink Martini\, a self-described "little orchestra" that can effortlessly go from classical songs to latin songs and back to classic pop. Pink Martini is fresh off their eighth studio album Dream A Little Dream\, an album that highlights the diversity of their work. From the iconic title track to the Italian "Kuroneko no Tango" they transition flawlessly through cultures and genres. Their uniquely elegant and sophisticated style set against the backdrop of the Historic Theater makes this show a must see.
X-ALT-DESC;FMTTYPE=text/html:<span style="color: rgb(102\, 102\, 102)\; font-family: 'Droid Sans'\, 'Lucida Grande'\, Arial\, sans-serif\; font-size: 16.8px\; line-height: 26.4px\;">Pink Martini\, a self-described &ldquo\;little orchestra&rdquo\; that can effortlessly go from classical songs to latin songs and back to classic pop. Pink Martini is fresh off their eighth studio album&nbsp\;</span><em style="color: rgb(102\, 102\, 102)\; font-family: 'Droid Sans'\, 'Lucida Grande'\, Arial\, sans-serif\; font-size: 16.8px\; line-height: 26.4px\;">Dream A Little Dream</em><span style="color: rgb(102\, 102\, 102)\; font-family: 'Droid Sans'\, 'Lucida Grande'\, Arial\, sans-serif\; font-size: 16.8px\; line-height: 26.4px\;">\, an album that highlights the diversity of their work. From the iconic title track to the Italian &ldquo\;Kuroneko no Tango&rdquo\; they transition flawlessly through cultures and genres. Their uniquely elegant and sophisticated style set against the backdrop of the Historic Theater makes this show a must see.</span>
LOCATION:The Music Hall 28 Chestnut Street\, Portsmouth
UID:e.1659.16703
SEQUENCE:3
DTSTAMP:20260420T150046Z
URL:https://business.portsmouthchamber.org/events/details/intimately-yours-the-historic-theater-pink-martini-03-16-2016-16703
END:VEVENT

END:VCALENDAR
