BEGIN:VCALENDAR
VERSION:2.0
PRODID:-//ChamberMaster//Event Calendar 2.0//EN
METHOD:PUBLISH
X-PUBLISHED-TTL:P3D
REFRESH-INTERVAL:P3D
CALSCALE:GREGORIAN
BEGIN:VEVENT
DTSTART:20160312T010000Z
DTEND:20160312T030000Z
X-MICROSOFT-CDO-ALLDAYEVENT:FALSE
SUMMARY:Intimately Yours @ The Historic Theater - Use Your Voice: Patty Griffin\, Sara Watkins & Anais Mitchell
DESCRIPTION:Award-winner Patty Griffin joins forces with Sara Watkins and Ana s Mitchell in a celebration of American songwriting and performance. More than just a three-act show\, this special "singers-in-the-round" features all three artists on stage together\, sharing songs and accompanying each other for the entire evening.   \n\nWith a career spanning over two decades\, Patty Griffin is a multiple Grammy Award winner and The American Music Association's 2007 "Artist of the Year" and "Album of the Year" winner. In addition to standing out in a crowded field as an incredible vocalist\, Griffin is also an accomplished songwriter\, having written songs for everyone from the Dixie Chicks to Bette Midler\, as well as most of the material on her own impressive catalogue of recordings.   \n\n\nSinger and multi-instrumentalist Sara Watkins\, first praised for her work as a founding member of Grammy Award-winning Nickel Creek\, has since established an extraordinary solo career including highly acclaimed studio albums\; collaborations with such artists as John Mayer and The Decemberists\; and frequent radio appearances on A Prairie Home Companion. \n\n \n\nAna s Mitchell has been compared to Bob Dylan\, Leonard Cohen\, and Gillian Welch for her musical style\, sound\, and performance. Winner of the Kerrville Festival's "New Folk Award" and nominee for the Folk Alliance's "Best Contemporary Artist Award\," Mitchell is widely recognized as a unique and impressive young voice in the resurging American folk movement. Her most recent album was largely praised by critics as "genre-defining" and her "second consecutive masterpiece."
X-ALT-DESC;FMTTYPE=text/html:&nbsp\;\n<p style="margin: 0px 0px 15px\; padding: 0px\; color: rgb(102\, 102\, 102)\; font-family: 'Droid Sans'\, 'Lucida Grande'\, Arial\, sans-serif\; font-size: 16.8px\; line-height: 26.4px\;">Award-winner Patty Griffin joins forces with Sara Watkins and Ana&iuml\;s Mitchell in a celebration of American songwriting and performance. More than just a three-act show\, this special &ldquo\;singers-in-the-round&rdquo\; features all three artists on stage together\, sharing songs and accompanying each other for the entire evening. &#8232\;&#8232\;</p>\n\n<p style="margin: 0px 0px 15px\; padding: 0px\; color: rgb(102\, 102\, 102)\; font-family: 'Droid Sans'\, 'Lucida Grande'\, Arial\, sans-serif\; font-size: 16.8px\; line-height: 26.4px\;">With a career spanning over two decades\, Patty Griffin is a multiple Grammy Award winner and The American Music Association&rsquo\;s 2007 &ldquo\;Artist of the Year&rdquo\; and &ldquo\;Album of the Year&rdquo\; winner. In addition to standing out in a crowded field as an incredible vocalist\, Griffin is also an accomplished songwriter\, having written songs for everyone from the Dixie Chicks to Bette Midler\, as well as most of the material on her own impressive catalogue of recordings. &#8232\;&#8232\;</p>\n<br />\n<span style="color: rgb(102\, 102\, 102)\; font-family: 'Droid Sans'\, 'Lucida Grande'\, Arial\, sans-serif\; font-size: 16.8px\; line-height: 26.4px\;">Singer and multi-instrumentalist Sara Watkins\, first praised for her work as a founding member of Grammy Award-winning Nickel Creek\, has since established an extraordinary solo career including highly acclaimed studio albums\; collaborations with such artists as John Mayer and The Decemberists\; and frequent radio appearances on A Prairie Home Companion.&nbsp\;<br />\n&#8203\;<br />\nAna&iuml\;s Mitchell has been compared to Bob Dylan\, Leonard Cohen\, and Gillian Welch for her musical style\, sound\, and performance. Winner of the Kerrville Festival&rsquo\;s &ldquo\;New Folk Award&rdquo\; and nominee for the Folk Alliance&rsquo\;s &ldquo\;Best Contemporary Artist Award\,&rdquo\; Mitchell is widely recognized as a unique and impressive young voice in the resurging American folk movement. Her most recent album was largely praised by critics as &ldquo\;genre-defining&rdquo\; and her &ldquo\;second consecutive masterpiece.&rdquo\;</span>
LOCATION:The Music Hall 28 Chestnut Street\, Portsmouth
UID:e.1659.16699
SEQUENCE:3
DTSTAMP:20260420T150543Z
URL:https://business.portsmouthchamber.org/events/details/intimately-yours-the-historic-theater-use-your-voice-patty-griffin-sara-watkins-anais-mitchell-03-11-2016-16699
END:VEVENT

END:VCALENDAR
