BEGIN:VCALENDAR
VERSION:2.0
PRODID:-//ChamberMaster//Event Calendar 2.0//EN
METHOD:PUBLISH
X-PUBLISHED-TTL:P3D
REFRESH-INTERVAL:P3D
CALSCALE:GREGORIAN
BEGIN:VEVENT
DTSTART:20140906T150000Z
DTEND:20140906T190000Z
X-MICROSOFT-CDO-ALLDAYEVENT:FALSE
SUMMARY:Jackson Hill Cider Day
DESCRIPTION:The historic orchard of the c. 1664 Jackson House comes alive during this early fall festival with music\, children's games\, crafts\, and seasonal refreshments. Help grind apples and press cider. Watch artisans demonstrate their craft. Tour the oldest house in northern New England. Farm animals from Spencer-Pierce-Little Farm will also make their yearly visit to the house.
X-ALT-DESC;FMTTYPE=text/html:<span style="background-color:#ffffff\;"><span style="font-size:13px\;"><span style="font-family:verdana\;"><span style="color:#333333\;">The historic orchard of the c. 1664 Jackson House comes alive during this early fall festival with music\, children&#39\;s games\, crafts\, and seasonal refreshments. Help grind apples and press cider. Watch artisans demonstrate their craft. Tour the oldest house in northern New England. Farm animals from&nbsp\;</span></span></span></span><a href="http://www.historicnewengland.org/historic-properties/homes/spencer-peirce-little-farm" style="padding:0px\;color:rgb(153\, 102\, 0)\;text-decoration:none\;font-family:Verdana\;font-size:13px\;line-height:18px\;">Spencer-Pierce-Little Farm</a><span style="background-color:#ffffff\;"><span style="font-size:13px\;"><span style="font-family:verdana\;"><span style="color:#333333\;">&nbsp\;will also make their yearly visit to the house.&nbsp\;</span></span></span></span>
LOCATION:
UID:e.1659.2142
SEQUENCE:3
DTSTAMP:20260419T160817Z
URL:https://business.portsmouthchamber.org/events/details/jackson-hill-cider-day-09-06-2014-2142
END:VEVENT

END:VCALENDAR
